BEGIN:VCALENDAR
VERSION:2.0
PRODID:-//Brösarp - ECPv6.15.20//NONSGML v1.0//EN
CALSCALE:GREGORIAN
METHOD:PUBLISH
X-ORIGINAL-URL:https://brosarp.se
X-WR-CALDESC:Händelser för Brösarp
REFRESH-INTERVAL;VALUE=DURATION:PT1H
X-Robots-Tag:noindex
X-PUBLISHED-TTL:PT1H
BEGIN:VTIMEZONE
TZID:Europe/Stockholm
BEGIN:DAYLIGHT
TZOFFSETFROM:+0100
TZOFFSETTO:+0200
TZNAME:CEST
DTSTART:20230326T010000
END:DAYLIGHT
BEGIN:STANDARD
TZOFFSETFROM:+0200
TZOFFSETTO:+0100
TZNAME:CET
DTSTART:20231029T010000
END:STANDARD
BEGIN:DAYLIGHT
TZOFFSETFROM:+0100
TZOFFSETTO:+0200
TZNAME:CEST
DTSTART:20240331T010000
END:DAYLIGHT
BEGIN:STANDARD
TZOFFSETFROM:+0200
TZOFFSETTO:+0100
TZNAME:CET
DTSTART:20241027T010000
END:STANDARD
BEGIN:DAYLIGHT
TZOFFSETFROM:+0100
TZOFFSETTO:+0200
TZNAME:CEST
DTSTART:20250330T010000
END:DAYLIGHT
BEGIN:STANDARD
TZOFFSETFROM:+0200
TZOFFSETTO:+0100
TZNAME:CET
DTSTART:20251026T010000
END:STANDARD
END:VTIMEZONE
BEGIN:VEVENT
DTSTART;TZID=Europe/Stockholm:20240129T170000
DTEND;TZID=Europe/Stockholm:20240129T180500
DTSTAMP:20260424T214052
CREATED:20240126T152125Z
LAST-MODIFIED:20240126T152139Z
UID:10215-1706547600-1706551500@brosarp.se
SUMMARY:Bokcirkel Brösarps bibliotek
DESCRIPTION:Vi träffas vid fyra tillfällen och samtalar om böcker. Inför första tillfället läser vi boken Det tredje ljuset\, små ting som dessa av Claire Keegan. \nVälkommen att anmäla dig till en eller flera träffar från 2/1. \nTid: Måndag 29/1 kl. 17.00-18.15 \nMåndag 26/2 kl.17.00-18.15 \nMåndag 25/3 kl. 17.00-18.15 \nMåndag 22/4 kl. 17.00-18.15 \nLäs mer på bibliotekets hemsida!
URL:https://brosarp.se/https-brosarp-se-event-single-post-name/bokcirkel-brosarps-bibliotek/
LOCATION:Brösarps bibliotek\, Magistervägen 9\, 273 50 Brösarp\, Sverige
CATEGORIES:Brösarps bibliotek
END:VEVENT
BEGIN:VEVENT
DTSTART;TZID=Europe/Stockholm:20240129T190000
DTEND;TZID=Europe/Stockholm:20240129T210000
DTSTAMP:20260424T214052
CREATED:20240126T135901Z
LAST-MODIFIED:20240126T135901Z
UID:10174-1706554800-1706562000@brosarp.se
SUMMARY:Extra-visning Hammarskjöld
DESCRIPTION:1961 hade den svenske stjärndiplomaten Dag Hammarskjöld bara ett år kvar av mandatperioden som FN:s generalsekreterare. Hans sju år på den posten präglades av intensivt arbete med en mängd svåra kriser i det kalla krigets tecken. Efter avslutad karriär väntade friden på Österlen och det älskade huset Backåkra. Den mest brännande konflikten 1961 var stridigheterna om makten i Kongo. Dag Hammarskjöld tog på sig uppdraget att mäkla fred och enighet i landet. Ett omöjligt uppdrag enligt många\, rentav ett självmordsuppdrag enligt andra. \nLäs mer på Kiviks bio!
URL:https://brosarp.se/https-brosarp-se-event-single-post-name/extra-visning-hammarskjold/
LOCATION:Kiviks bio\, Ordensgatan 5\, Kivik\, 277 30
ORGANIZER;CN="Kiviks bio":MAILTO:info@kiviksbio.se
END:VEVENT
END:VCALENDAR