BEGIN:VCALENDAR
VERSION:2.0
PRODID:-//Brösarp - ECPv6.15.20//NONSGML v1.0//EN
CALSCALE:GREGORIAN
METHOD:PUBLISH
X-ORIGINAL-URL:https://brosarp.se
X-WR-CALDESC:Händelser för Brösarp
REFRESH-INTERVAL;VALUE=DURATION:PT1H
X-Robots-Tag:noindex
X-PUBLISHED-TTL:PT1H
BEGIN:VTIMEZONE
TZID:Europe/Stockholm
BEGIN:DAYLIGHT
TZOFFSETFROM:+0100
TZOFFSETTO:+0200
TZNAME:CEST
DTSTART:20230326T010000
END:DAYLIGHT
BEGIN:STANDARD
TZOFFSETFROM:+0200
TZOFFSETTO:+0100
TZNAME:CET
DTSTART:20231029T010000
END:STANDARD
BEGIN:DAYLIGHT
TZOFFSETFROM:+0100
TZOFFSETTO:+0200
TZNAME:CEST
DTSTART:20240331T010000
END:DAYLIGHT
BEGIN:STANDARD
TZOFFSETFROM:+0200
TZOFFSETTO:+0100
TZNAME:CET
DTSTART:20241027T010000
END:STANDARD
BEGIN:DAYLIGHT
TZOFFSETFROM:+0100
TZOFFSETTO:+0200
TZNAME:CEST
DTSTART:20250330T010000
END:DAYLIGHT
BEGIN:STANDARD
TZOFFSETFROM:+0200
TZOFFSETTO:+0100
TZNAME:CET
DTSTART:20251026T010000
END:STANDARD
END:VTIMEZONE
BEGIN:VEVENT
DTSTART;TZID=Europe/Stockholm:20240222T143000
DTEND;TZID=Europe/Stockholm:20240222T160000
DTSTAMP:20260424T231213
CREATED:20240126T153409Z
LAST-MODIFIED:20240126T153409Z
UID:10224-1708612200-1708617600@brosarp.se
SUMMARY:Lyssna & pyssla: Rymden
DESCRIPTION:Vi pratar om böcker och filmer på tema rymden.\nKom gärna med ditt bästa bok- eller filmtips!\nDärefter skapar vi pop-up kort med stjärnglans. \nÅlder: 7-12 år \nAnmälan: brosarpsbibliotek@tomelilla.se \nLäs mer på bibliotekets hemsida!
URL:https://brosarp.se/https-brosarp-se-event-single-post-name/lyssna-pyssla-rymden/
LOCATION:Brösarps bibliotek\, Magistervägen 9\, 273 50 Brösarp\, Sverige
CATEGORIES:Brösarps bibliotek
END:VEVENT
BEGIN:VEVENT
DTSTART;TZID=Europe/Stockholm:20240222T180000
DTEND;TZID=Europe/Stockholm:20240222T193000
DTSTAMP:20260424T231213
CREATED:20240126T142432Z
LAST-MODIFIED:20240126T142432Z
UID:10191-1708624800-1708630200@brosarp.se
SUMMARY:Sportlovskvällsfilm! Håkan Bråkan 2
DESCRIPTION:Håkan Bråkan (Silas Strand) vill verkligen ha ett husdjur\, men då måste han först visa sig tillräckligt ansvarsfull. Frågan är om Håkan kan klara en hel vecka på scoutläger utan att ställa till med oreda. Speciellt som han får tag på en skattkarta och det dyker upp mystiska tjuvar. Kan han låta bli att kasta sig ut i nya äventyr? \nLäs mer på Kiviks bio!
URL:https://brosarp.se/https-brosarp-se-event-single-post-name/sportlovskvallsfilm-hakan-brakan-2/
LOCATION:Kiviks bio\, Ordensgatan 5\, Kivik\, 277 30
CATEGORIES:Kiviks bio
ORGANIZER;CN="Kiviks bio":MAILTO:info@kiviksbio.se
END:VEVENT
END:VCALENDAR