BEGIN:VCALENDAR
VERSION:2.0
PRODID:-//Brösarp - ECPv6.15.20//NONSGML v1.0//EN
CALSCALE:GREGORIAN
METHOD:PUBLISH
X-WR-CALNAME:Brösarp
X-ORIGINAL-URL:https://brosarp.se
X-WR-CALDESC:Händelser för Brösarp
REFRESH-INTERVAL;VALUE=DURATION:PT1H
X-Robots-Tag:noindex
X-PUBLISHED-TTL:PT1H
BEGIN:VTIMEZONE
TZID:Europe/Stockholm
BEGIN:DAYLIGHT
TZOFFSETFROM:+0100
TZOFFSETTO:+0200
TZNAME:CEST
DTSTART:20230326T010000
END:DAYLIGHT
BEGIN:STANDARD
TZOFFSETFROM:+0200
TZOFFSETTO:+0100
TZNAME:CET
DTSTART:20231029T010000
END:STANDARD
BEGIN:DAYLIGHT
TZOFFSETFROM:+0100
TZOFFSETTO:+0200
TZNAME:CEST
DTSTART:20240331T010000
END:DAYLIGHT
BEGIN:STANDARD
TZOFFSETFROM:+0200
TZOFFSETTO:+0100
TZNAME:CET
DTSTART:20241027T010000
END:STANDARD
BEGIN:DAYLIGHT
TZOFFSETFROM:+0100
TZOFFSETTO:+0200
TZNAME:CEST
DTSTART:20250330T010000
END:DAYLIGHT
BEGIN:STANDARD
TZOFFSETFROM:+0200
TZOFFSETTO:+0100
TZNAME:CET
DTSTART:20251026T010000
END:STANDARD
END:VTIMEZONE
BEGIN:VEVENT
DTSTART;TZID=Europe/Stockholm:20240229T190000
DTEND;TZID=Europe/Stockholm:20240229T210000
DTSTAMP:20260424T200914
CREATED:20240126T144553Z
LAST-MODIFIED:20240126T144553Z
UID:10195-1709233200-1709240400@brosarp.se
SUMMARY:Lärarrummet
DESCRIPTION:En elev till den nya läraren Carla blir anklagad för att ha stulit pengar ur lärarrummet. Carla\, som är ambitiös och arbetar för alla elevers respektfulla bemötande av varandra\, börjar göra en egen undersökning av vad som hänt. Ilker Çatak skapar en förtätad stämning kring vad som är rätt\, var lojaliteter ligger och om sanningen alltid är bäst för alla. Ett drama om civilkurage och idealism och om hur skolan kan spegla världen utanför. \nLäs mer på Kiviks bio!
URL:https://brosarp.se/https-brosarp-se-event-single-post-name/lararrummet/
LOCATION:Kiviks bio\, Ordensgatan 5\, Kivik\, 277 30
CATEGORIES:Kiviks bio
ORGANIZER;CN="Kiviks bio":MAILTO:info@kiviksbio.se
END:VEVENT
END:VCALENDAR