BEGIN:VCALENDAR
VERSION:2.0
PRODID:-//Brösarp - ECPv6.15.20//NONSGML v1.0//EN
CALSCALE:GREGORIAN
METHOD:PUBLISH
X-WR-CALNAME:Brösarp
X-ORIGINAL-URL:https://brosarp.se
X-WR-CALDESC:Händelser för Brösarp
REFRESH-INTERVAL;VALUE=DURATION:PT1H
X-Robots-Tag:noindex
X-PUBLISHED-TTL:PT1H
BEGIN:VTIMEZONE
TZID:Europe/Stockholm
BEGIN:DAYLIGHT
TZOFFSETFROM:+0100
TZOFFSETTO:+0200
TZNAME:CEST
DTSTART:20230326T010000
END:DAYLIGHT
BEGIN:STANDARD
TZOFFSETFROM:+0200
TZOFFSETTO:+0100
TZNAME:CET
DTSTART:20231029T010000
END:STANDARD
BEGIN:DAYLIGHT
TZOFFSETFROM:+0100
TZOFFSETTO:+0200
TZNAME:CEST
DTSTART:20240331T010000
END:DAYLIGHT
BEGIN:STANDARD
TZOFFSETFROM:+0200
TZOFFSETTO:+0100
TZNAME:CET
DTSTART:20241027T010000
END:STANDARD
BEGIN:DAYLIGHT
TZOFFSETFROM:+0100
TZOFFSETTO:+0200
TZNAME:CEST
DTSTART:20250330T010000
END:DAYLIGHT
BEGIN:STANDARD
TZOFFSETFROM:+0200
TZOFFSETTO:+0100
TZNAME:CET
DTSTART:20251026T010000
END:STANDARD
END:VTIMEZONE
BEGIN:VEVENT
DTSTART;TZID=Europe/Stockholm:20240317T180000
DTEND;TZID=Europe/Stockholm:20240317T194500
DTSTAMP:20260424T213928
CREATED:20240126T150259Z
LAST-MODIFIED:20240126T150259Z
UID:10207-1710698400-1710704700@brosarp.se
SUMMARY:All of Us Strangers
DESCRIPTION:Adam (Andrew Scott) arbetar utan framgång på ett manus baserat på minnet av de egna föräldrarna som omkom redan när han var 12 år. Han inleder en relation med en mystisk granne Harry (Paul Mescal\, Aftersun). När Adam återvänder till sitt barndomshem för att finna inspiration upptäcker han att föräldrarna (Claire Foy\, Jamie Bell) fortfarande lever! Han kan ställa de där frågorna han alltid undrat över. \nLäs mer på Kiviks bio!
URL:https://brosarp.se/https-brosarp-se-event-single-post-name/all-of-us-strangers/
LOCATION:Kiviks bio\, Ordensgatan 5\, Kivik\, 277 30
CATEGORIES:Kiviks bio
ORGANIZER;CN="Kiviks bio":MAILTO:info@kiviksbio.se
END:VEVENT
END:VCALENDAR