BEGIN:VCALENDAR
VERSION:2.0
PRODID:-//Brösarp - ECPv6.15.20//NONSGML v1.0//EN
CALSCALE:GREGORIAN
METHOD:PUBLISH
X-WR-CALNAME:Brösarp
X-ORIGINAL-URL:https://brosarp.se
X-WR-CALDESC:Händelser för Brösarp
REFRESH-INTERVAL;VALUE=DURATION:PT1H
X-Robots-Tag:noindex
X-PUBLISHED-TTL:PT1H
BEGIN:VTIMEZONE
TZID:Europe/Stockholm
BEGIN:DAYLIGHT
TZOFFSETFROM:+0100
TZOFFSETTO:+0200
TZNAME:CEST
DTSTART:20230326T010000
END:DAYLIGHT
BEGIN:STANDARD
TZOFFSETFROM:+0200
TZOFFSETTO:+0100
TZNAME:CET
DTSTART:20231029T010000
END:STANDARD
BEGIN:DAYLIGHT
TZOFFSETFROM:+0100
TZOFFSETTO:+0200
TZNAME:CEST
DTSTART:20240331T010000
END:DAYLIGHT
BEGIN:STANDARD
TZOFFSETFROM:+0200
TZOFFSETTO:+0100
TZNAME:CET
DTSTART:20241027T010000
END:STANDARD
BEGIN:DAYLIGHT
TZOFFSETFROM:+0100
TZOFFSETTO:+0200
TZNAME:CEST
DTSTART:20250330T010000
END:DAYLIGHT
BEGIN:STANDARD
TZOFFSETFROM:+0200
TZOFFSETTO:+0100
TZNAME:CET
DTSTART:20251026T010000
END:STANDARD
END:VTIMEZONE
BEGIN:VEVENT
DTSTART;TZID=Europe/Stockholm:20240322T100000
DTEND;TZID=Europe/Stockholm:20240324T160000
DTSTAMP:20260424T214027
CREATED:20240126T120044Z
LAST-MODIFIED:20240126T120044Z
UID:10141-1711101600-1711296000@brosarp.se
SUMMARY:Antikmässa
DESCRIPTION:Antikmässan i Brösarp har utvecklats till en internationellt känd kvalitetsmässa som placerat den lilla byn Brösarp på världskartan. Brösarp har blivit knutpunkten för alla som är intresserade av genuina antikviteter av hög kvalitet. I mässans fokus finns antikviteter i originalskick och kulturhistoriskt intressanta föremål.\n\n\nVäl mött den 22 – 24 mars!\n\n\nÖppettider\nFredag 22 mars: 10 – 18\nLördag 23 mars: 10 – 18\nSöndag 24 mars: 10 – 16\n\n\nBesök mässans hemsida för mer information!  
URL:https://brosarp.se/https-brosarp-se-event-single-post-name/antikmassa/
LOCATION:Brösarps mässhall\, Bengtemöllevägen 5\, Brösarp\, 273 50\, Sverige
ATTACH;FMTTYPE=image/jpeg:https://brosarp.se/wp-content/uploads/2024/01/antikmassa.jpg
END:VEVENT
BEGIN:VEVENT
DTSTART;TZID=Europe/Stockholm:20240323T180000
DTEND;TZID=Europe/Stockholm:20240323T213000
DTSTAMP:20260424T214027
CREATED:20240126T150638Z
LAST-MODIFIED:20240126T150638Z
UID:10209-1711216800-1711229400@brosarp.se
SUMMARY:Romeo och Julia
DESCRIPTION:Direkt från Metropolitanoperan i New York \nCharles Gounods opera Romeo och Julia i nyuppsättning av Tony Award-belönade regissören Bartlett Sher.\nTvå sångare på toppen av sin karriär – sopranen Nadine Sierra och tenoren Benjamin Bernheim –möts som det älskande paret i Charles Gounods opera baserad på Shakespeares pjäs. Yannick Nézet-Séguin intar podiet för att dirigera ett av historiens mest romantiska partitur i en scenografi som andas sent italienskt 1700-tal. \nLäs mer på Kiviks bio!
URL:https://brosarp.se/https-brosarp-se-event-single-post-name/romeo-och-julia/
LOCATION:Kiviks bio\, Ordensgatan 5\, Kivik\, 277 30
CATEGORIES:Kiviks bio
ORGANIZER;CN="Kiviks bio":MAILTO:info@kiviksbio.se
END:VEVENT
END:VCALENDAR