BEGIN:VCALENDAR
VERSION:2.0
PRODID:-//Brösarp - ECPv6.15.20//NONSGML v1.0//EN
CALSCALE:GREGORIAN
METHOD:PUBLISH
X-ORIGINAL-URL:https://brosarp.se
X-WR-CALDESC:Händelser för Brösarp
REFRESH-INTERVAL;VALUE=DURATION:PT1H
X-Robots-Tag:noindex
X-PUBLISHED-TTL:PT1H
BEGIN:VTIMEZONE
TZID:Europe/Stockholm
BEGIN:DAYLIGHT
TZOFFSETFROM:+0100
TZOFFSETTO:+0200
TZNAME:CEST
DTSTART:20230326T010000
END:DAYLIGHT
BEGIN:STANDARD
TZOFFSETFROM:+0200
TZOFFSETTO:+0100
TZNAME:CET
DTSTART:20231029T010000
END:STANDARD
BEGIN:DAYLIGHT
TZOFFSETFROM:+0100
TZOFFSETTO:+0200
TZNAME:CEST
DTSTART:20240331T010000
END:DAYLIGHT
BEGIN:STANDARD
TZOFFSETFROM:+0200
TZOFFSETTO:+0100
TZNAME:CET
DTSTART:20241027T010000
END:STANDARD
BEGIN:DAYLIGHT
TZOFFSETFROM:+0100
TZOFFSETTO:+0200
TZNAME:CEST
DTSTART:20250330T010000
END:DAYLIGHT
BEGIN:STANDARD
TZOFFSETFROM:+0200
TZOFFSETTO:+0100
TZNAME:CET
DTSTART:20251026T010000
END:STANDARD
END:VTIMEZONE
BEGIN:VEVENT
DTSTART;TZID=Europe/Stockholm:20240422T170000
DTEND;TZID=Europe/Stockholm:20240422T180500
DTSTAMP:20260424T183746
CREATED:20240126T161751Z
LAST-MODIFIED:20240305T191130Z
UID:10246-1713805200-1713809100@brosarp.se
SUMMARY:Bokcirkel
DESCRIPTION:Vi träffas vid fyra tillfällen och samtalar om böcker. Inför första tillfället läser vi boken Det tredje ljuset\, små ting som dessa av Claire Keegan. \nVälkommen att anmäla dig till en eller flera träffar från 2/1. \n  \nTid: Måndag 29/1 kl. 17.00-18.15 \nMåndag 26/2 kl.17.00-18.15 \nMåndag 25/3 kl. 17.00-18.15 \nMåndag 22/4 kl. 17.00-18.15 \nLäs mer på bibliotekets hemsida!
URL:https://brosarp.se/https-brosarp-se-event-single-post-name/bokcirkel/
LOCATION:Brösarps bibliotek\, Magistervägen 9\, 273 50 Brösarp\, Sverige
CATEGORIES:Brösarps bibliotek
END:VEVENT
END:VCALENDAR