BEGIN:VCALENDAR
VERSION:2.0
PRODID:-//Brösarp - ECPv6.15.20//NONSGML v1.0//EN
CALSCALE:GREGORIAN
METHOD:PUBLISH
X-ORIGINAL-URL:https://brosarp.se
X-WR-CALDESC:Händelser för Brösarp
REFRESH-INTERVAL;VALUE=DURATION:PT1H
X-Robots-Tag:noindex
X-PUBLISHED-TTL:PT1H
BEGIN:VTIMEZONE
TZID:Europe/Stockholm
BEGIN:DAYLIGHT
TZOFFSETFROM:+0100
TZOFFSETTO:+0200
TZNAME:CEST
DTSTART:20230326T010000
END:DAYLIGHT
BEGIN:STANDARD
TZOFFSETFROM:+0200
TZOFFSETTO:+0100
TZNAME:CET
DTSTART:20231029T010000
END:STANDARD
BEGIN:DAYLIGHT
TZOFFSETFROM:+0100
TZOFFSETTO:+0200
TZNAME:CEST
DTSTART:20240331T010000
END:DAYLIGHT
BEGIN:STANDARD
TZOFFSETFROM:+0200
TZOFFSETTO:+0100
TZNAME:CET
DTSTART:20241027T010000
END:STANDARD
BEGIN:DAYLIGHT
TZOFFSETFROM:+0100
TZOFFSETTO:+0200
TZNAME:CEST
DTSTART:20250330T010000
END:DAYLIGHT
BEGIN:STANDARD
TZOFFSETFROM:+0200
TZOFFSETTO:+0100
TZNAME:CET
DTSTART:20251026T010000
END:STANDARD
END:VTIMEZONE
BEGIN:VEVENT
DTSTART;TZID=Europe/Stockholm:20240511T190000
DTEND;TZID=Europe/Stockholm:20240511T221500
DTSTAMP:20260424T155305
CREATED:20240126T151640Z
LAST-MODIFIED:20240126T151640Z
UID:10213-1715454000-1715465700@brosarp.se
SUMMARY:Madama Butterfly
DESCRIPTION:Direkt från Metropolitanoperan i New York \nGiacomo Puccinis klassiska opera Madama Butterfly nu med sopranen Asmik Grigorian i huvudrollen som i sin Met-debut tar sig an den krävande rollen som Cio-Cio-San\, den godtrogna geishan i hjärtat av Puccinis tragedi. Tenoren Jonathan Tetelman är den känslolösa amerikanska sjöofficeren Pinkerton vars svek förstör henne.\nBerättelsen om den olyckliga kärleken som plågar den unga japanskan är en av världens mest kända tragiska operor och de tidlösa melodierna (arian Un bel di och Humming Chorus) har älskats av operabesökare världen runt i många år. \nLäs mer på Kiviks bio!
URL:https://brosarp.se/https-brosarp-se-event-single-post-name/madama-butterfly/
LOCATION:Kiviks bio\, Ordensgatan 5\, Kivik\, 277 30
CATEGORIES:Kiviks bio
ORGANIZER;CN="Kiviks bio":MAILTO:info@kiviksbio.se
END:VEVENT
END:VCALENDAR