BEGIN:VCALENDAR
VERSION:2.0
PRODID:-//Brösarp - ECPv6.15.20//NONSGML v1.0//EN
CALSCALE:GREGORIAN
METHOD:PUBLISH
X-WR-CALNAME:Brösarp
X-ORIGINAL-URL:https://brosarp.se
X-WR-CALDESC:Händelser för Brösarp
REFRESH-INTERVAL;VALUE=DURATION:PT1H
X-Robots-Tag:noindex
X-PUBLISHED-TTL:PT1H
BEGIN:VTIMEZONE
TZID:Europe/Stockholm
BEGIN:DAYLIGHT
TZOFFSETFROM:+0100
TZOFFSETTO:+0200
TZNAME:CEST
DTSTART:20250330T010000
END:DAYLIGHT
BEGIN:STANDARD
TZOFFSETFROM:+0200
TZOFFSETTO:+0100
TZNAME:CET
DTSTART:20251026T010000
END:STANDARD
BEGIN:DAYLIGHT
TZOFFSETFROM:+0100
TZOFFSETTO:+0200
TZNAME:CEST
DTSTART:20260329T010000
END:DAYLIGHT
BEGIN:STANDARD
TZOFFSETFROM:+0200
TZOFFSETTO:+0100
TZNAME:CET
DTSTART:20261025T010000
END:STANDARD
BEGIN:DAYLIGHT
TZOFFSETFROM:+0100
TZOFFSETTO:+0200
TZNAME:CEST
DTSTART:20270328T010000
END:DAYLIGHT
BEGIN:STANDARD
TZOFFSETFROM:+0200
TZOFFSETTO:+0100
TZNAME:CET
DTSTART:20271031T010000
END:STANDARD
END:VTIMEZONE
BEGIN:VEVENT
DTSTART;TZID=Europe/Stockholm:20260906T110000
DTEND;TZID=Europe/Stockholm:20260906T150000
DTSTAMP:20260420T195847
CREATED:20260129T181856Z
LAST-MODIFIED:20260130T150356Z
UID:10653-1788692400-1788706800@brosarp.se
SUMMARY:Brösarpsdagen
DESCRIPTION:Första söndagen i september firar vi alltid Brösarpsdagen. Här kommer du att hitta lokala hantverkare och matproducenter. Ankrace i bäcken\, våra föreningar och företagare har en given plats och naturligtvis en hoppborg. Brösarps IF grillar korv och Brösarps Gästis ordnar med äggakaka. Musik och härligt umgänge.
URL:https://brosarp.se/https-brosarp-se-event-single-post-name/brosarpsdagen-2/
LOCATION:Brösarps Byaäng
ATTACH;FMTTYPE=image/jpeg:https://brosarp.se/wp-content/uploads/2013/12/brösarpsdagen-2010-ankrace-slutspurt.jpg
END:VEVENT
END:VCALENDAR