BEGIN:VCALENDAR
VERSION:2.0
PRODID:-//Brösarp - ECPv6.15.20//NONSGML v1.0//EN
CALSCALE:GREGORIAN
METHOD:PUBLISH
X-WR-CALNAME:Brösarp
X-ORIGINAL-URL:https://brosarp.se
X-WR-CALDESC:Händelser för Brösarp
REFRESH-INTERVAL;VALUE=DURATION:PT1H
X-Robots-Tag:noindex
X-PUBLISHED-TTL:PT1H
BEGIN:VTIMEZONE
TZID:Europe/Stockholm
BEGIN:DAYLIGHT
TZOFFSETFROM:+0100
TZOFFSETTO:+0200
TZNAME:CEST
DTSTART:20250330T010000
END:DAYLIGHT
BEGIN:STANDARD
TZOFFSETFROM:+0200
TZOFFSETTO:+0100
TZNAME:CET
DTSTART:20251026T010000
END:STANDARD
BEGIN:DAYLIGHT
TZOFFSETFROM:+0100
TZOFFSETTO:+0200
TZNAME:CEST
DTSTART:20260329T010000
END:DAYLIGHT
BEGIN:STANDARD
TZOFFSETFROM:+0200
TZOFFSETTO:+0100
TZNAME:CET
DTSTART:20261025T010000
END:STANDARD
BEGIN:DAYLIGHT
TZOFFSETFROM:+0100
TZOFFSETTO:+0200
TZNAME:CEST
DTSTART:20270328T010000
END:DAYLIGHT
BEGIN:STANDARD
TZOFFSETFROM:+0200
TZOFFSETTO:+0100
TZNAME:CET
DTSTART:20271031T010000
END:STANDARD
END:VTIMEZONE
BEGIN:VEVENT
DTSTART;TZID=Europe/Stockholm:20261031T180000
DTEND;TZID=Europe/Stockholm:20261031T200000
DTSTAMP:20260421T005416
CREATED:20260129T183236Z
LAST-MODIFIED:20260130T152546Z
UID:10657-1793469600-1793476800@brosarp.se
SUMMARY:Österlen lyser
DESCRIPTION:Byagillet tänder marschaller i byn och ordnar med tipspromenad som startar vid ICA 18.00. Fina priser till barn och vuxna. I programmet som skickats ut kom det med ett fel\, vad var det? Gissa rätt och du vinner ett pris!
URL:https://brosarp.se/https-brosarp-se-event-single-post-name/osterlen-lyser-2/
LOCATION:Brösarps by
ATTACH;FMTTYPE=image/jpeg:https://brosarp.se/wp-content/uploads/2023/09/ljus-scaled.jpg
END:VEVENT
END:VCALENDAR