BEGIN:VCALENDAR
VERSION:2.0
PRODID:-//Brösarp - ECPv6.15.20//NONSGML v1.0//EN
CALSCALE:GREGORIAN
METHOD:PUBLISH
X-ORIGINAL-URL:https://brosarp.se
X-WR-CALDESC:Händelser för Brösarp
REFRESH-INTERVAL;VALUE=DURATION:PT1H
X-Robots-Tag:noindex
X-PUBLISHED-TTL:PT1H
BEGIN:VTIMEZONE
TZID:Europe/Stockholm
BEGIN:DAYLIGHT
TZOFFSETFROM:+0100
TZOFFSETTO:+0200
TZNAME:CEST
DTSTART:20230326T010000
END:DAYLIGHT
BEGIN:STANDARD
TZOFFSETFROM:+0200
TZOFFSETTO:+0100
TZNAME:CET
DTSTART:20231029T010000
END:STANDARD
BEGIN:DAYLIGHT
TZOFFSETFROM:+0100
TZOFFSETTO:+0200
TZNAME:CEST
DTSTART:20240331T010000
END:DAYLIGHT
BEGIN:STANDARD
TZOFFSETFROM:+0200
TZOFFSETTO:+0100
TZNAME:CET
DTSTART:20241027T010000
END:STANDARD
BEGIN:DAYLIGHT
TZOFFSETFROM:+0100
TZOFFSETTO:+0200
TZNAME:CEST
DTSTART:20250330T010000
END:DAYLIGHT
BEGIN:STANDARD
TZOFFSETFROM:+0200
TZOFFSETTO:+0100
TZNAME:CET
DTSTART:20251026T010000
END:STANDARD
END:VTIMEZONE
BEGIN:VEVENT
DTSTART;TZID=Europe/Stockholm:20240313T183000
DTEND;TZID=Europe/Stockholm:20240313T183000
DTSTAMP:20260426T061848
CREATED:20240126T131152Z
LAST-MODIFIED:20240226T164559Z
UID:10154-1710354600-1710354600@brosarp.se
SUMMARY:Studiebesök på Talldungen gårdshotell
DESCRIPTION:Byagillet arrangerar studiebesök på Talldungens gårdhotell. Här får vi höra Emma Höök tala om resan från Uppland till Skåne\, varför det blev Brösarp och Talldungen. Dess historia\, verksamheten förr\, idag och i framtiden. \nAnmälan görs till Göran Alm via mail: branock20@gmail.com \nVälkomna!
URL:https://brosarp.se/https-brosarp-se-event-single-post-name/forelasning-talldungen/
LOCATION:Talldungen\, Bengtemöllevägen 7\, Brösarp\, Sverige
CATEGORIES:Brösarps Byagille
END:VEVENT
BEGIN:VEVENT
DTSTART;TZID=Europe/Stockholm:20240316T100000
DTEND;TZID=Europe/Stockholm:20240316T120000
DTSTAMP:20260426T061848
CREATED:20240126T124151Z
LAST-MODIFIED:20240130T162158Z
UID:10147-1710583200-1710590400@brosarp.se
SUMMARY:Städdag i Brösarp
DESCRIPTION:Vi städar Brösarp!\nSamling på Brösarps byaäng.  Väder kan påverka aktiviteten.
URL:https://brosarp.se/https-brosarp-se-event-single-post-name/staddag-i-brosarp/
LOCATION:Brösarps Byaäng
CATEGORIES:Brösarps Byagille
ATTACH;FMTTYPE=image/jpeg:https://brosarp.se/wp-content/uploads/2024/01/staddag.jpg
END:VEVENT
BEGIN:VEVENT
DTSTART;TZID=Europe/Stockholm:20240328T080000
DTEND;TZID=Europe/Stockholm:20240328T120000
DTSTAMP:20260426T061848
CREATED:20240126T131938Z
LAST-MODIFIED:20240130T163159Z
UID:10156-1711612800-1711627200@brosarp.se
SUMMARY:Sillafrukost
DESCRIPTION:Brösarps byagille bjuder in till Sillafrukost! \nVi startar påsken med en god sillafrukost på Grisen & Draken. Serveras från kl. 08.00  när dörrarna öppnas på Skärtorsdagen. \nInträde: 50 kr. Överskottet skänks till välgörenhet. \nVarmt välkomna!
URL:https://brosarp.se/https-brosarp-se-event-single-post-name/sillafrukost/
LOCATION:Grisen & Draken\, Smedjevägen 12\, Brösarp\, 27350\, Sverige
CATEGORIES:Brösarps Byagille
ATTACH;FMTTYPE=image/jpeg:https://brosarp.se/wp-content/uploads/2024/01/sillafrukost.jpg
END:VEVENT
BEGIN:VEVENT
DTSTART;TZID=Europe/Stockholm:20240331T100000
DTEND;TZID=Europe/Stockholm:20240331T130000
DTSTAMP:20260426T061848
CREATED:20240126T132143Z
LAST-MODIFIED:20240130T164129Z
UID:10159-1711879200-1711890000@brosarp.se
SUMMARY:Bakluckeloppis
DESCRIPTION:Fynda eller sälj! Ett tillfälle där fantastiska saker kan byta ägare. \n50 kr cykel\n100 :- bil\n150 :- bil med släp
URL:https://brosarp.se/https-brosarp-se-event-single-post-name/bakluckeloppis-3/
LOCATION:Gamla vägstationsområdet\, Smedjevägen 11\, Brösarp
CATEGORIES:Brösarps Byagille
ATTACH;FMTTYPE=image/jpeg:https://brosarp.se/wp-content/uploads/2023/04/loppis-e1681385509901.jpg
END:VEVENT
END:VCALENDAR