BEGIN:VCALENDAR
VERSION:2.0
PRODID:-//Brösarp - ECPv6.15.20//NONSGML v1.0//EN
CALSCALE:GREGORIAN
METHOD:PUBLISH
X-WR-CALNAME:Brösarp
X-ORIGINAL-URL:https://brosarp.se
X-WR-CALDESC:Händelser för Brösarp
REFRESH-INTERVAL;VALUE=DURATION:PT1H
X-Robots-Tag:noindex
X-PUBLISHED-TTL:PT1H
BEGIN:VTIMEZONE
TZID:Europe/Stockholm
BEGIN:DAYLIGHT
TZOFFSETFROM:+0100
TZOFFSETTO:+0200
TZNAME:CEST
DTSTART:20230326T010000
END:DAYLIGHT
BEGIN:STANDARD
TZOFFSETFROM:+0200
TZOFFSETTO:+0100
TZNAME:CET
DTSTART:20231029T010000
END:STANDARD
BEGIN:DAYLIGHT
TZOFFSETFROM:+0100
TZOFFSETTO:+0200
TZNAME:CEST
DTSTART:20240331T010000
END:DAYLIGHT
BEGIN:STANDARD
TZOFFSETFROM:+0200
TZOFFSETTO:+0100
TZNAME:CET
DTSTART:20241027T010000
END:STANDARD
BEGIN:DAYLIGHT
TZOFFSETFROM:+0100
TZOFFSETTO:+0200
TZNAME:CEST
DTSTART:20250330T010000
END:DAYLIGHT
BEGIN:STANDARD
TZOFFSETFROM:+0200
TZOFFSETTO:+0100
TZNAME:CET
DTSTART:20251026T010000
END:STANDARD
BEGIN:DAYLIGHT
TZOFFSETFROM:+0100
TZOFFSETTO:+0200
TZNAME:CEST
DTSTART:20260329T010000
END:DAYLIGHT
BEGIN:STANDARD
TZOFFSETFROM:+0200
TZOFFSETTO:+0100
TZNAME:CET
DTSTART:20261025T010000
END:STANDARD
END:VTIMEZONE
BEGIN:VEVENT
DTSTART;TZID=Europe/Stockholm:20240616T100000
DTEND;TZID=Europe/Stockholm:20240616T130000
DTSTAMP:20260424T155457
CREATED:20240126T134804Z
LAST-MODIFIED:20240130T164737Z
UID:10168-1718532000-1718542800@brosarp.se
SUMMARY:Bakluckeloppis
DESCRIPTION:Fynda eller sälj! Ett tillfälle där fantastiska saker kan byta ägare. \n50 kr cykel\n100 :- bil\n150 :- bil med släp
URL:https://brosarp.se/https-brosarp-se-event-single-post-name/bakluckeloppis-5/
LOCATION:Gamla vägstationsområdet\, Smedjevägen 11\, Brösarp
CATEGORIES:Brösarps Byagille
ATTACH;FMTTYPE=image/jpeg:https://brosarp.se/wp-content/uploads/2023/04/loppis-e1681385509901.jpg
END:VEVENT
BEGIN:VEVENT
DTSTART;TZID=Europe/Stockholm:20240620T180000
DTEND;TZID=Europe/Stockholm:20240620T180000
DTSTAMP:20260424T155457
CREATED:20240222T162550Z
LAST-MODIFIED:20240222T162550Z
UID:10298-1718906400-1718906400@brosarp.se
SUMMARY:Vi förbereder midsommarstången
DESCRIPTION:Ta med blommor!
URL:https://brosarp.se/https-brosarp-se-event-single-post-name/vi-forbereder-midsommarstangen/
LOCATION:Brösarps Byaäng
END:VEVENT
BEGIN:VEVENT
DTSTART;TZID=Europe/Stockholm:20240621T130000
DTEND;TZID=Europe/Stockholm:20240621T130000
DTSTAMP:20260424T155457
CREATED:20240126T134949Z
LAST-MODIFIED:20240605T185126Z
UID:10170-1718974800-1718974800@brosarp.se
SUMMARY:Midsommarfirande i Brösarp
DESCRIPTION:Välkommen att fira Midsommar med Brösarps byagille \nkl. 13.00 kläs midsommarstången med egna medhavda blommor.\nKl. 14.00 reser vi stången och börjar dansen. \nFörtäring: medhavd picknick\, barn bjuds på glass.
URL:https://brosarp.se/https-brosarp-se-event-single-post-name/midsommarfirande-2/
LOCATION:Brösarps Byaäng
CATEGORIES:Brösarps Byagille
ATTACH;FMTTYPE=image/jpeg:https://brosarp.se/wp-content/uploads/2023/04/midsommarblommor-e1681386986689.jpg
END:VEVENT
BEGIN:VEVENT
DTSTART;TZID=Europe/Stockholm:20240728T100000
DTEND;TZID=Europe/Stockholm:20240728T130000
DTSTAMP:20260424T155457
CREATED:20240606T181643Z
LAST-MODIFIED:20240616T194853Z
UID:10369-1722160800-1722171600@brosarp.se
SUMMARY:Bakluckeloppis
DESCRIPTION:Fynda eller sälj! Ett tillfälle där fantastiska saker kan byta ägare. \n50 kr cykel\n100 :- bil\n150 :- bil med släp \nNi som vill sälja\, kom till platsen mellan 09.00 – 09.30 för att få en plats.
URL:https://brosarp.se/https-brosarp-se-event-single-post-name/bakluckeloppis-6/
LOCATION:Gamla vägstationsområdet\, Smedjevägen 11\, Brösarp
CATEGORIES:Brösarps Byagille
ATTACH;FMTTYPE=image/jpeg:https://brosarp.se/wp-content/uploads/2023/04/loppis-e1681385509901.jpg
ORGANIZER;CN="Br%C3%B6sarps byagille":MAILTO:info@brosarp.se
END:VEVENT
BEGIN:VEVENT
DTSTART;TZID=Europe/Stockholm:20240802T150000
DTEND;TZID=Europe/Stockholm:20240802T173000
DTSTAMP:20260424T155457
CREATED:20240218T162345Z
LAST-MODIFIED:20240218T163606Z
UID:10278-1722610800-1722619800@brosarp.se
SUMMARY:Hyllningskonsert till vispoeten Olle Adolphson
DESCRIPTION:Välkommen till konsert vid vackra Haväng på Österlen med Olle Adolphsons visor och berättelser om hans liv på Österlen. Inramat av vacker natur\, god mat och dryck arrangerar vi för fjärde året en friluftskonsert i samarbete med Skepparps Vingård. \nPå scen svensk-marockanska sångerskan och kulturprofilen Miriam Aïda med sina musiker Mats Andersson gitarr och Ola Bothzén på slagverk. Du kan förvänta dig intima och groovy tolkningar av Olles visor. Vi återser med glädje vissångaren och gitarristen Anders Anton. Sångduon Systrarna Pyk med Lina och Sofia bankar på dörren till de stora scenerna med sin vackra stämsång\, nu kommer de till oss. Trogna och framgångsrika Jesper Nordberg på kontrabas får sällskap av Oscar Johansson på piano som turnerat med flera kända musiker på Europas jazzscener. Med nya artister för varje år blandat med våra husmusiker och en ständigt växande publikskapar vi Älskade Olle-stämning på Österlen. Han är värd det\, Olle Adolphson\, speciellt i år då han skulle ha fyllt 90 år. \nPris: 445-495 kr
URL:https://brosarp.se/https-brosarp-se-event-single-post-name/hyllningskonsert-till-vispoeten-olle-adolphson/
LOCATION:Skepparps vingård\, Verkaåvägen 56\, Kivik\, 277 37\, Sweden
ATTACH;FMTTYPE=image/jpeg:https://brosarp.se/wp-content/uploads/2024/02/alskade-olle-aug.jpg
ORGANIZER;CN="F%C3%A4hund Evenemang AB":MAILTO:borje@fahundevenemang.se
END:VEVENT
BEGIN:VEVENT
DTSTART;TZID=Europe/Stockholm:20240803T120000
DTEND;TZID=Europe/Stockholm:20240803T163000
DTSTAMP:20260424T155457
CREATED:20240221T162513Z
LAST-MODIFIED:20240221T162513Z
UID:10289-1722686400-1722702600@brosarp.se
SUMMARY:Vandring i Olle Adolphsons fotspår
DESCRIPTION:Kulturprojektet Älskade Olle! tar dig med på en unik guidad tur i det vackra landskapet på Drakamöllan vid Maglehem på Österlen\, där Olle Adolphson levde och inspirerades under 20 år. Lyssna på visorna som Olle skrev på Österlen med vissångaren Anders Anton och berättelser längs vägen av författaren Jan Malmborg (3/8) och Olle Adolphson-kännaren Börje Bengtsson (10/8 och 11/8).\nPå vandringen njuter du av ljungklädda hedar och besök på gårdarna Orelyckan och Björshus som var hemvist för Olle. Vi inleder med lunch på Drakamöllan Gårdshotell\, som tidigare ägdes av Olle Adolphsons bästa vän Christer Mörner\, där nuvarande ägaren Ingalill Thorsell delar med sig av gårdens historia. Vi njuter av gårdshotellets kaffekorg längs vägen. Vandringen är ca 5 km i medelsvår terräng. Hundar får ej medtagas till lunch eller vandring. \nKostnad: 675 kr inkl. 2-rätters lunch och fika. Biljetter köps via arrangemangets hemsida https://alskadeolle.se/vandringen
URL:https://brosarp.se/https-brosarp-se-event-single-post-name/vandring-i-olle-adolphsons-fotspar/
LOCATION:Drakamöllans gårdshotell\, Drakamöllan 108\, Degeberga\, 297 95
ATTACH;FMTTYPE=image/jpeg:https://brosarp.se/wp-content/uploads/2024/02/alskade-olle-aug3.jpg
ORGANIZER;CN="F%C3%A4hund Evenemang AB":MAILTO:borje@fahundevenemang.se
END:VEVENT
BEGIN:VEVENT
DTSTART;TZID=Europe/Stockholm:20240810T120000
DTEND;TZID=Europe/Stockholm:20240810T163000
DTSTAMP:20260424T155457
CREATED:20240222T160741Z
LAST-MODIFIED:20240222T160741Z
UID:10294-1723291200-1723307400@brosarp.se
SUMMARY:Vandring i Olle Adolphsons fotspår
DESCRIPTION:Kulturprojektet Älskade Olle! tar dig med på en unik guidad tur i det vackra landskapet på Drakamöllan vid Maglehem på Österlen\, där Olle Adolphson levde och inspirerades under 20 år. Lyssna på visorna som Olle skrev på Österlen med vissångaren Anders Anton och berättelser längs vägen av författaren Jan Malmborg (3/8) och Olle Adolphson-kännaren Börje Bengtsson (10/8 och 11/8). \nPå vandringen njuter du av ljungklädda hedar och besök på gårdarna Orelyckan och Björshus som var hemvist för Olle. Vi inleder med lunch på Drakamöllan Gårdshotell\, som tidigare ägdes av Olle Adolphsons bästa vän Christer Mörner\, där nuvarande ägaren Ingalill Thorsell delar med sig av gårdens historia. Vi njuter av gårdshotellets kaffekorg längs vägen. Vandringen är ca 5 km i medelsvår terräng. Hundar får ej medtagas till lunch eller vandring. \nKostnad: 675 kr inkl. 2-rätters lunch och fika. Biljetter köps via arrangemangets hemsida https://alskadeolle.se/vandringen \n \n 
URL:https://brosarp.se/https-brosarp-se-event-single-post-name/vandring-i-olle-adolphsons-fotspar-2/
LOCATION:Drakamöllans gårdshotell\, Drakamöllan 108\, Degeberga\, 297 95
ATTACH;FMTTYPE=image/jpeg:https://brosarp.se/wp-content/uploads/2024/02/alskade-olle-aug3.jpg
ORGANIZER;CN="F%C3%A4hund Evenemang AB":MAILTO:borje@fahundevenemang.se
END:VEVENT
BEGIN:VEVENT
DTSTART;TZID=Europe/Stockholm:20240811T120000
DTEND;TZID=Europe/Stockholm:20240811T163000
DTSTAMP:20260424T155457
CREATED:20240222T161412Z
LAST-MODIFIED:20240222T161412Z
UID:10296-1723377600-1723393800@brosarp.se
SUMMARY:Vandring i Olle Adolphsons fotspår
DESCRIPTION:Kulturprojektet Älskade Olle! tar dig med på en unik guidad tur i det vackra landskapet på Drakamöllan vid Maglehem på Österlen\, där Olle Adolphson levde och inspirerades under 20 år. Lyssna på visorna som Olle skrev på Österlen med vissångaren Anders Anton och berättelser längs vägen av författaren Jan Malmborg (3/8) och Olle Adolphson-kännaren Börje Bengtsson (10/8 och 11/8). \nPå vandringen njuter du av ljungklädda hedar och besök på gårdarna Orelyckan och Björshus som var hemvist för Olle. Vi inleder med lunch på Drakamöllan Gårdshotell\, som tidigare ägdes av Olle Adolphsons bästa vän Christer Mörner\, där nuvarande ägaren Ingalill Thorsell delar med sig av gårdens historia. Vi njuter av gårdshotellets kaffekorg längs vägen. Vandringen är ca 5 km i medelsvår terräng. Hundar får ej medtagas till lunch eller vandring. \nKostnad: 675 kr inkl. 2-rätters lunch och fika. Biljetter köps via arrangemangets hemsida https://alskadeolle.se/vandringen
URL:https://brosarp.se/https-brosarp-se-event-single-post-name/vandring-i-olle-adolphsons-fotspar-3/
LOCATION:Drakamöllans gårdshotell\, Drakamöllan 108\, Degeberga\, 297 95
ATTACH;FMTTYPE=image/jpeg:https://brosarp.se/wp-content/uploads/2024/02/alskade-olle-aug3.jpg
ORGANIZER;CN="F%C3%A4hund Evenemang AB":MAILTO:borje@fahundevenemang.se
END:VEVENT
BEGIN:VEVENT
DTSTART;TZID=Europe/Stockholm:20240818T180000
DTEND;TZID=Europe/Stockholm:20240818T200000
DTSTAMP:20260424T155457
CREATED:20240814T124234Z
LAST-MODIFIED:20240814T124234Z
UID:10418-1724004000-1724011200@brosarp.se
SUMMARY:Samtal i byns kyrka - del 1
DESCRIPTION:Utvalda söndagskvällar kommer Samtal i byns kyrka bjuda in gäster från församlingens orter till våra sju kyrkor. Samtalen är under ledning av Kyrkoherde\, Cerny Eriksson Ståhl. Under kvällarna öppnar vi upp för fria samtal kring gästernas tankar om byn och det egna engagemanget och hur deras tankar går om byns framtid. \nBrösarps kyrka del 1\nSöndag den 18 augusti kl. 18.00. Gäst: Leif Richard. \nBrösarps kyrka del 2\nSöndag den 8 september kl. 18.00. Gäst: Anders Cederberg. \nAndrarums kyrka\nSöndag den 20 oktober kl. 18.00. Gäst: Christoffer Lundqvist.
URL:https://brosarp.se/https-brosarp-se-event-single-post-name/samtal-i-byns-kyrka-del-1/
LOCATION:Brösarps kyrka\, Högekullsvägen 7\, Brösarp\, 27350\, Sweden
ATTACH;FMTTYPE=image/jpeg:https://brosarp.se/wp-content/uploads/2024/08/samtal-i-byns-kyrka.jpg
END:VEVENT
BEGIN:VEVENT
DTSTART;TZID=Europe/Stockholm:20240825T100000
DTEND;TZID=Europe/Stockholm:20240825T130000
DTSTAMP:20260424T155457
CREATED:20240606T182058Z
LAST-MODIFIED:20240616T195009Z
UID:10371-1724580000-1724590800@brosarp.se
SUMMARY:Bakluckeloppis
DESCRIPTION:Fynda eller sälj! Ett tillfälle där fantastiska saker kan byta ägare. \n50 kr cykel\n100 :- bil\n150 :- bil med släp \nNi som vill sälja\, kom till platsen mellan 09.00 – 09.30 för att få en plats.
URL:https://brosarp.se/https-brosarp-se-event-single-post-name/bakluckeloppis-7/
LOCATION:Gamla vägstationsområdet\, Smedjevägen 11\, Brösarp
ATTACH;FMTTYPE=image/jpeg:https://brosarp.se/wp-content/uploads/2023/04/loppis-e1681385509901.jpg
ORGANIZER;CN="Br%C3%B6sarps byagille":MAILTO:info@brosarp.se
END:VEVENT
BEGIN:VEVENT
DTSTART;TZID=Europe/Stockholm:20240901T110000
DTEND;TZID=Europe/Stockholm:20240901T160000
DTSTAMP:20260424T155457
CREATED:20240606T185327Z
LAST-MODIFIED:20240813T163005Z
UID:10373-1725188400-1725206400@brosarp.se
SUMMARY:Jubileum i Brösarp
DESCRIPTION:Varmt välkomna till en dag med försäljning av lokala produkter och hantverk\, ankrace\, servering\, femkamp\, ponnyridning\, hoppborg och mycket musik.\n15.00 uppträder Lasse & Emil Sigfridsson
URL:https://brosarp.se/https-brosarp-se-event-single-post-name/jubileum-i-brosarp/
LOCATION:Brösarps Byaäng
CATEGORIES:Brösarps Byagille
ATTACH;FMTTYPE=image/jpeg:https://brosarp.se/wp-content/uploads/2024/06/jubileumhemsida.jpg
ORGANIZER;CN="Br%C3%B6sarps byagille":MAILTO:info@brosarp.se
END:VEVENT
BEGIN:VEVENT
DTSTART;TZID=Europe/Stockholm:20240908T180000
DTEND;TZID=Europe/Stockholm:20240908T200000
DTSTAMP:20260424T155457
CREATED:20240814T124637Z
LAST-MODIFIED:20240814T124805Z
UID:10423-1725818400-1725825600@brosarp.se
SUMMARY:Samtal i byns kyrka - del 2
DESCRIPTION:Utvalda söndagskvällar kommer Samtal i byns kyrka bjuda in gäster från församlingens orter till våra sju kyrkor. Samtalen är under ledning av Kyrkoherde\, Cerny Eriksson Ståhl. Under kvällarna öppnar vi upp för fria samtal kring gästernas tankar om byn och det egna engagemanget och hur deras tankar går om byns framtid. \nBrösarps kyrka del 2\nSöndag den 8 september kl. 18.00. Gäst: Anders Cederberg. \nAndrarums kyrka\nSöndag den 20 oktober kl. 18.00. Gäst: Christoffer Lundqvist.
URL:https://brosarp.se/https-brosarp-se-event-single-post-name/samtal-i-byns-kyrka-del-2/
LOCATION:Brösarps kyrka\, Högekullsvägen 7\, Brösarp\, 27350\, Sweden
ATTACH;FMTTYPE=image/jpeg:https://brosarp.se/wp-content/uploads/2024/08/samtal-i-byns-kyrka.jpg
END:VEVENT
BEGIN:VEVENT
DTSTART;TZID=Europe/Stockholm:20240929T100000
DTEND;TZID=Europe/Stockholm:20240929T130000
DTSTAMP:20260424T155457
CREATED:20240606T190121Z
LAST-MODIFIED:20240616T194933Z
UID:10376-1727604000-1727614800@brosarp.se
SUMMARY:Bakluckeloppis
DESCRIPTION:Fynda eller sälj! Ett tillfälle där fantastiska saker kan byta ägare. \n50 kr cykel\n100 :- bil\n150 :- bil med släp \nNi som vill sälja\, kom till platsen mellan 09.00 – 09.30 för att få en plats.
URL:https://brosarp.se/https-brosarp-se-event-single-post-name/bakluckeloppis-8/
LOCATION:Gamla vägstationsområdet\, Smedjevägen 11\, Brösarp
CATEGORIES:Brösarps Byagille
ATTACH;FMTTYPE=image/jpeg:https://brosarp.se/wp-content/uploads/2023/04/loppis-e1681385509901.jpg
ORGANIZER;CN="Br%C3%B6sarps byagille":MAILTO:info@brosarp.se
END:VEVENT
BEGIN:VEVENT
DTSTART;TZID=Europe/Stockholm:20241007T183000
DTEND;TZID=Europe/Stockholm:20241007T200000
DTSTAMP:20260424T155457
CREATED:20240616T200231Z
LAST-MODIFIED:20241003T172949Z
UID:10393-1728325800-1728331200@brosarp.se
SUMMARY:Studiebesök - Torsten Nilssons Snickerifabrik
DESCRIPTION:Besök  på Torsten Nilssons snickerifabrik.\nDå det finns ett max antal platser\, var god anmäl intresse via SMS till 0731 – 80 44 75 eller 0728 – 90 94 24 före 5 oktober 2024 \nVälkomna!
URL:https://brosarp.se/https-brosarp-se-event-single-post-name/forelasning/
LOCATION:Torsten Nilsson snickerifabrik\, Magistervägen 6\, Brösarp\, Sweden
CATEGORIES:Brösarps Byagille
ORGANIZER;CN="Br%C3%B6sarps byagille":MAILTO:info@brosarp.se
END:VEVENT
BEGIN:VEVENT
DTSTART;TZID=Europe/Stockholm:20241020T180000
DTEND;TZID=Europe/Stockholm:20241020T200000
DTSTAMP:20260424T155457
CREATED:20240814T125714Z
LAST-MODIFIED:20240814T125714Z
UID:10425-1729447200-1729454400@brosarp.se
SUMMARY:Samtal i byns kyrka - del 3
DESCRIPTION:Utvalda söndagskvällar kommer Samtal i byns kyrka bjuda in gäster från församlingens orter till våra sju kyrkor. Samtalen är under ledning av Kyrkoherde\, Cerny Eriksson Ståhl. Under kvällarna öppnar vi upp för fria samtal kring gästernas tankar om byn och det egna engagemanget och hur deras tankar går om byns framtid. \nAndrarums kyrka\nSöndag den 20 oktober kl. 18.00. Gäst: Christoffer Lundqvist.
URL:https://brosarp.se/https-brosarp-se-event-single-post-name/samtal-i-byns-kyrka-del-3/
LOCATION:Andrarums kyrka\, Andrarum\, 27357\, Sweden
ATTACH;FMTTYPE=image/jpeg:https://brosarp.se/wp-content/uploads/2024/08/samtal-i-byns-kyrka.jpg
END:VEVENT
BEGIN:VEVENT
DTSTART;TZID=Europe/Stockholm:20241102T180000
DTEND;TZID=Europe/Stockholm:20241102T180000
DTSTAMP:20260424T155457
CREATED:20240606T193201Z
LAST-MODIFIED:20240606T193253Z
UID:10378-1730570400-1730570400@brosarp.se
SUMMARY:Österlen lyser med tipspromenad
DESCRIPTION:Vi startar vid ICA-affären\, Albovägen 34\,  kl. 18.00
URL:https://brosarp.se/https-brosarp-se-event-single-post-name/osterlen-lyser-med-tipspromenad/
CATEGORIES:Brösarps Byagille
ATTACH;FMTTYPE=image/jpeg:https://brosarp.se/wp-content/uploads/2024/06/osterlenlyser.jpg
ORGANIZER;CN="Br%C3%B6sarps byagille":MAILTO:info@brosarp.se
END:VEVENT
BEGIN:VEVENT
DTSTART;TZID=Europe/Stockholm:20241119T181500
DTEND;TZID=Europe/Stockholm:20241119T200000
DTSTAMP:20260424T155457
CREATED:20240616T200606Z
LAST-MODIFIED:20241107T185754Z
UID:10395-1732040100-1732046400@brosarp.se
SUMMARY:Föredrag av riksspelman Sven Midgren
DESCRIPTION:Föredrag av riksspelman Sven Midgren om Brösarps kantor & lärare Signe Willén Thellander. \nVälkomna!
URL:https://brosarp.se/https-brosarp-se-event-single-post-name/forelasning-2/
LOCATION:Brösarps konsthall\, Höjerensvägen 4\, Brösarp
ORGANIZER;CN="Br%C3%B6sarps byagille":MAILTO:info@brosarp.se
END:VEVENT
BEGIN:VEVENT
DTSTART;TZID=Europe/Stockholm:20241130T110000
DTEND;TZID=Europe/Stockholm:20241130T150000
DTSTAMP:20260424T155457
CREATED:20240606T195123Z
LAST-MODIFIED:20240606T195123Z
UID:10381-1732964400-1732978800@brosarp.se
SUMMARY:Julmarknad
DESCRIPTION:
URL:https://brosarp.se/https-brosarp-se-event-single-post-name/julmarknad-2/
LOCATION:Brösarps bygdegård\, Albovägen 36\, Brösarp\, 273 50\, Sweden
CATEGORIES:Brösarps Byagille
ATTACH;FMTTYPE=image/jpeg:https://brosarp.se/wp-content/uploads/2024/06/julmarknad2.jpg
ORGANIZER;CN="Br%C3%B6sarps byagille":MAILTO:info@brosarp.se
END:VEVENT
BEGIN:VEVENT
DTSTART;TZID=Europe/Stockholm:20250106T093000
DTEND;TZID=Europe/Stockholm:20250106T153000
DTSTAMP:20260424T155457
CREATED:20241209T165005Z
LAST-MODIFIED:20241209T165005Z
UID:10443-1736155800-1736177400@brosarp.se
SUMMARY:MTB skola för barn på jullovet - Brösarps Byagille och Jordnära upplevelser bjuder in
DESCRIPTION:Man behöver en cykel med styre\, två hjul\, gärna ett par växlar och hjälm såklart! \nVar: På Jordnäras träningsbana på Källagården i Brösarp\nNär: Måndag den 6 januari 2025\nHur: Lekfulla lektioner med glädje som drivkraft till utveckling\nKursledare: Helena Rimfors certifierad Mountainbikeinstruktör Jordnära Upplevelser \nFöranmälan krävs \nNivå 1 09:30-12:00 Barn 7-10 år\nFör dig som har en cykel och cyklar ibland men vill bli lite modigare. Lektionen\nbörjar med äppelmust och macka.\n12:00-13:00 Gemensam lunch för nivå 1 och nivå 2 \nNivå 2 12:00-ca 15:30 Barn 9-14 år.\nFör dig som tycker om att cykla\, cyklar ganska ofta och vill lära dig ännu mer.\nLektionen slutar med äppelmust och macka. \nFrågor MTB-skolan: Helena Rimfors 073-3386393\nKontakt Brösarps Byagille: info@brosarp.se \nAnmälan senast 28 december till: helena@rimfors.se OBS!!! Begränsat antal platser \nBrösarps byagille arrangerar MTB skolan kostnadsfritt tillsammans med Jordnära Upplevelser med stöd från Tomelilla kommun
URL:https://brosarp.se/https-brosarp-se-event-single-post-name/mtb-skola-for-barn-pa-jullovet-brosarps-byagille-och-jordnara-upplevelser-bjuder-in/
LOCATION:Källagården\, Källagården\, Brösarp\, 27350\, Sweden
ATTACH;FMTTYPE=image/jpeg:https://brosarp.se/wp-content/uploads/2024/12/MBT.jpg
END:VEVENT
BEGIN:VEVENT
DTSTART;TZID=Europe/Stockholm:20250111T140000
DTEND;TZID=Europe/Stockholm:20250111T153000
DTSTAMP:20260424T155457
CREATED:20240606T195540Z
LAST-MODIFIED:20241222T152600Z
UID:10384-1736604000-1736609400@brosarp.se
SUMMARY:Julgransplundring
DESCRIPTION:Ta med egen fika.
URL:https://brosarp.se/https-brosarp-se-event-single-post-name/julgransplundring-2/
LOCATION:Brösarps bygdegård\, Albovägen 36\, Brösarp\, 273 50\, Sweden
CATEGORIES:Brösarps Byagille
ATTACH;FMTTYPE=image/jpeg:https://brosarp.se/wp-content/uploads/2023/09/julgran-scaled.jpg
ORGANIZER;CN="Br%C3%B6sarps byagille":MAILTO:info@brosarp.se
END:VEVENT
BEGIN:VEVENT
DTSTART;TZID=Europe/Stockholm:20250204T183000
DTEND;TZID=Europe/Stockholm:20250204T183000
DTSTAMP:20260424T155457
CREATED:20241222T153126Z
LAST-MODIFIED:20250116T211446Z
UID:10449-1738693800-1738693800@brosarp.se
SUMMARY:Företagsbesök Ericsson Digital
DESCRIPTION:Besök på Ericsson Digital\, Albovägen 3. \nDå det finns ett max antal platser var god anmäl intresse via SMS\ntill 0731 – 80 44 75 före 3 februari 2025
URL:https://brosarp.se/https-brosarp-se-event-single-post-name/foretagsbesok-ericsson-digital/
LOCATION:Ericsson Digital\, Albovägen 3\, Brösarp
CATEGORIES:Brösarps Byagille
END:VEVENT
BEGIN:VEVENT
DTSTART;TZID=Europe/Stockholm:20250227T190000
DTEND;TZID=Europe/Stockholm:20250227T210000
DTSTAMP:20260424T155457
CREATED:20241222T153703Z
LAST-MODIFIED:20250128T105846Z
UID:10452-1740682800-1740690000@brosarp.se
SUMMARY:Årsmöte med föredrag
DESCRIPTION:Kallelse till årsstämma 2025 \nNär: 27 februari 2025 19:00 till cirka 21:00 \nVar: BIF klubbstuga i Brösarp \nProgrampunkter:  \n– Årsstämma enligt stadgar  \n– Hör Ann-Kristin Montan berätta om hennes yrkesbana från dagiskök till rektor för Brösarps skola \nVi bjuder på fika och gott sällskap!
URL:https://brosarp.se/https-brosarp-se-event-single-post-name/arsmote-med-foredrag/
LOCATION:Brösarps IF klubbstuga\, Brunnsviksvägen 26\, Brösarp\, Sverige
CATEGORIES:Brösarps Byagille
ATTACH;FMTTYPE=image/jpeg:https://brosarp.se/wp-content/uploads/2024/01/arsmote.jpg
END:VEVENT
BEGIN:VEVENT
DTSTART;TZID=Europe/Stockholm:20250310T183000
DTEND;TZID=Europe/Stockholm:20250310T183000
DTSTAMP:20260424T155457
CREATED:20250223T190456Z
LAST-MODIFIED:20250223T190608Z
UID:10512-1741631400-1741631400@brosarp.se
SUMMARY:Föreläsning\, kåseri om  ICA Götes Livs historia
DESCRIPTION:Mattias Liljegren kåserar om ICA Götes Livs historia \nDå det finns ett max antal platser var god anmäl intresse\nvia SMS till 0731 – 80 44 75 före 7 mars 2025
URL:https://brosarp.se/https-brosarp-se-event-single-post-name/forelasning-kaseri-om-ica-gotes-livs-historia/
LOCATION:Brösarps bygdegård\, Albovägen 36\, Brösarp\, 273 50\, Sweden
END:VEVENT
BEGIN:VEVENT
DTSTART;TZID=Europe/Stockholm:20250322T100000
DTEND;TZID=Europe/Stockholm:20250322T100000
DTSTAMP:20260424T155457
CREATED:20250219T154745Z
LAST-MODIFIED:20250219T154947Z
UID:10510-1742637600-1742637600@brosarp.se
SUMMARY:Städdag i Brösarp
DESCRIPTION:Samling på Byaängen kl. 10.00
URL:https://brosarp.se/https-brosarp-se-event-single-post-name/staddag-i-brosarp-3/
LOCATION:Brösarps Byaäng
ATTACH;FMTTYPE=image/jpeg:https://brosarp.se/wp-content/uploads/2024/01/staddag.jpg
END:VEVENT
BEGIN:VEVENT
DTSTART;TZID=Europe/Stockholm:20250330T100000
DTEND;TZID=Europe/Stockholm:20250330T130000
DTSTAMP:20260424T155457
CREATED:20241222T155128Z
LAST-MODIFIED:20241222T155128Z
UID:10456-1743328800-1743339600@brosarp.se
SUMMARY:Bakluckeloppis
DESCRIPTION:Fynda eller sälj! Ett tillfälle där fantastiska saker kan byta ägare. \n50 kr cykel\n100 :- bil\n150 :- bil med släp \nNi som vill sälja\, kom till platsen mellan 09.00 – 09.30 för att få en plats.
URL:https://brosarp.se/https-brosarp-se-event-single-post-name/bakluckeloppis-9/
LOCATION:Gamla vägstationsområdet\, Smedjevägen 11\, Brösarp
ATTACH;FMTTYPE=image/jpeg:https://brosarp.se/wp-content/uploads/2023/04/loppis-e1681385509901.jpg
END:VEVENT
BEGIN:VEVENT
DTSTART;TZID=Europe/Stockholm:20250417T080000
DTEND;TZID=Europe/Stockholm:20250417T100000
DTSTAMP:20260424T155457
CREATED:20241222T160202Z
LAST-MODIFIED:20250327T143414Z
UID:10458-1744876800-1744884000@brosarp.se
SUMMARY:Sillafrukost
DESCRIPTION:Brösarps byagille bjuder in till Sillafrukost! \nVi startar påsken med en god sillafrukost på Grisen & Draken. Serveras från kl. 08.00  när dörrarna öppnas på Skärtorsdagen. \nPlats: Grisen & Draken\nTid: 08:00 – 10:00\nPris: 50 SEK \nÖverskottet skänks till Brösarps skola. \nVi tackar våra sponsorer:\nCafé Smulan\nÖsterlens Kött & Vilt\, Brösarp\nBrösarps Gästgivferi & Spa\nÖsterlenbryggarna\nKällagården\nRöddingebergs Frukt\nICA Supermarket\, Brösarp
URL:https://brosarp.se/https-brosarp-se-event-single-post-name/sillafrukost-2/
LOCATION:Grisen & Draken\, Smedjevägen 12\, Brösarp\, 27350\, Sverige
ATTACH;FMTTYPE=image/png:https://brosarp.se/wp-content/uploads/2023/03/Sillafrukost-2023.png
END:VEVENT
BEGIN:VEVENT
DTSTART;TZID=Europe/Stockholm:20250417T150000
DTEND;TZID=Europe/Stockholm:20250417T160000
DTSTAMP:20260424T155457
CREATED:20241222T160514Z
LAST-MODIFIED:20250328T075051Z
UID:10460-1744902000-1744905600@brosarp.se
SUMMARY:Teaterföreställning för barn: Jag och Bettan med Teater 23
DESCRIPTION:Jag och Bettan med Teater 23\nEn familjeföreställning om längtan efter sällskap\, men även att våga sätta gränser\, berättad genom sång\, humor och dråpliga situationer.\nRiktad mot barn ålder 5 – 10 år. \nPlats: Sporthallen Brösarps skola\nDatum: 17 april Tid: 15:00  Insläpp från 14.30. \nPris: barn under 12 GRATIS\, vuxna 50:- \nFöranmälan via SMS till 0723-068787 \nhttps://www.youtube.com/watch?v=ndl98YlmOqM \n 
URL:https://brosarp.se/https-brosarp-se-event-single-post-name/teaterforestallning-for-barn/
LOCATION:Sporthallen Brösarps skola\, Magistervägen 9\, Brösarp\, Sweden
CATEGORIES:Brösarps Byagille
ATTACH;FMTTYPE=image/png:https://brosarp.se/wp-content/uploads/2024/12/JagoBettan.png
END:VEVENT
BEGIN:VEVENT
DTSTART;TZID=Europe/Stockholm:20250427T100000
DTEND;TZID=Europe/Stockholm:20250427T130000
DTSTAMP:20260424T155457
CREATED:20241222T160828Z
LAST-MODIFIED:20241222T160828Z
UID:10462-1745748000-1745758800@brosarp.se
SUMMARY:Bakluckeloppis
DESCRIPTION:Fynda eller sälj! Ett tillfälle där fantastiska saker kan byta ägare. \n50 kr cykel\n100 :- bil\n150 :- bil med släp \nNi som vill sälja\, kom till platsen mellan 09.00 – 09.30 för att få en plats.
URL:https://brosarp.se/https-brosarp-se-event-single-post-name/bakluckeloppis-10/
LOCATION:Gamla vägstationsområdet\, Smedjevägen 11\, Brösarp
ATTACH;FMTTYPE=image/jpeg:https://brosarp.se/wp-content/uploads/2023/04/loppis-e1681385509901.jpg
END:VEVENT
BEGIN:VEVENT
DTSTART;TZID=Europe/Stockholm:20250430T000000
DTEND;TZID=Europe/Stockholm:20250430T000000
DTSTAMP:20260424T155457
CREATED:20241222T161759Z
LAST-MODIFIED:20250423T065203Z
UID:10464-1745971200-1745971200@brosarp.se
SUMMARY:Valborgsmässofirande
DESCRIPTION:Plats: Byaängen \nTid: 18:45 \nProgram: \n– Scouterna går fackeltåg till Byaängen\n– Bålet tänds 19.30\n– Ann-Kristin Montan håller tal\n– Kyrkans kör sjunger \nScouterna säljer fika och korv! \nVälkomna!
URL:https://brosarp.se/https-brosarp-se-event-single-post-name/valborgsmassofirande/
LOCATION:Brösarps Byaäng
ATTACH;FMTTYPE=image/jpeg:https://brosarp.se/wp-content/uploads/2024/12/valborg.jpg
END:VEVENT
BEGIN:VEVENT
DTSTART;TZID=Europe/Stockholm:20250501T000000
DTEND;TZID=Europe/Stockholm:20250501T000000
DTSTAMP:20260424T155457
CREATED:20241222T161914Z
LAST-MODIFIED:20241222T171628Z
UID:10467-1746057600-1746057600@brosarp.se
SUMMARY:Kulturtrampet startar
DESCRIPTION:Andrarums IF arrangerar tillsammans med Brösarps byagille en kombination av orientering och kulturupplevelse.\nVarje år mellan maj och augusti finns  kontroller utsatta där varje besök även innefattar information om platsens historia.\nPaketet med karta och texthäfte finns att köpa i flertalet affärer och cafeér på Österlen. \nDelta till fots\, per cykel eller med häst\, bil\, mc och njut av traktens natur och kultur samtidigt som du har kul: Kul Tur Tramp. \nBesök även facebookgruppen
URL:https://brosarp.se/https-brosarp-se-event-single-post-name/kulturtrampet-startar/
ATTACH;FMTTYPE=image/jpeg:https://brosarp.se/wp-content/uploads/2024/12/kulturtrampet.jpg
END:VEVENT
END:VCALENDAR