BEGIN:VCALENDAR
VERSION:2.0
PRODID:-//Brösarp - ECPv6.15.20//NONSGML v1.0//EN
CALSCALE:GREGORIAN
METHOD:PUBLISH
X-ORIGINAL-URL:https://brosarp.se
X-WR-CALDESC:Händelser för Brösarp
REFRESH-INTERVAL;VALUE=DURATION:PT1H
X-Robots-Tag:noindex
X-PUBLISHED-TTL:PT1H
BEGIN:VTIMEZONE
TZID:Europe/Stockholm
BEGIN:DAYLIGHT
TZOFFSETFROM:+0100
TZOFFSETTO:+0200
TZNAME:CEST
DTSTART:20230326T010000
END:DAYLIGHT
BEGIN:STANDARD
TZOFFSETFROM:+0200
TZOFFSETTO:+0100
TZNAME:CET
DTSTART:20231029T010000
END:STANDARD
BEGIN:DAYLIGHT
TZOFFSETFROM:+0100
TZOFFSETTO:+0200
TZNAME:CEST
DTSTART:20240331T010000
END:DAYLIGHT
BEGIN:STANDARD
TZOFFSETFROM:+0200
TZOFFSETTO:+0100
TZNAME:CET
DTSTART:20241027T010000
END:STANDARD
BEGIN:DAYLIGHT
TZOFFSETFROM:+0100
TZOFFSETTO:+0200
TZNAME:CEST
DTSTART:20250330T010000
END:DAYLIGHT
BEGIN:STANDARD
TZOFFSETFROM:+0200
TZOFFSETTO:+0100
TZNAME:CET
DTSTART:20251026T010000
END:STANDARD
END:VTIMEZONE
BEGIN:VEVENT
DTSTART;TZID=Europe/Stockholm:20240127T190000
DTEND;TZID=Europe/Stockholm:20240127T224500
DTSTAMP:20260425T185353
CREATED:20230927T093529Z
LAST-MODIFIED:20230927T093529Z
UID:9850-1706382000-1706395500@brosarp.se
SUMMARY:Carmen - opera
DESCRIPTION:Georges Bizets klassiska opera Carmen tar sig ny form när den hyllade regissören Carrie Cracknell gör sin Met-debut och återupplivar den klassiska historien om dödlig passion med en produktion som flyttar handlingen till nutid och ett gäng människohandlare.\nCarmen attraherar både erfarna och nya operabesökare med sina välbekanta melodier (Toreadorsången!) och är en av världens mest kända operor genom tiderna. \nLäs mer på Kiviks bio
URL:https://brosarp.se/https-brosarp-se-event-single-post-name/carmen-opera/
LOCATION:Kiviks bio\, Ordensgatan 5\, Kivik\, 277 30
CATEGORIES:Kiviks bio
ORGANIZER;CN="Kiviks bio":MAILTO:info@kiviksbio.se
END:VEVENT
BEGIN:VEVENT
DTSTART;TZID=Europe/Stockholm:20240128T180000
DTEND;TZID=Europe/Stockholm:20240128T193000
DTSTAMP:20260425T185353
CREATED:20240126T135421Z
LAST-MODIFIED:20240126T135421Z
UID:10172-1706464800-1706470200@brosarp.se
SUMMARY:The Old Oak
DESCRIPTION:Till ett tynade gruvsamhälle i norra England anländer en grupp flyktingar från Syrien. De är inte välkomna. Byborna har tillräckligt med bekymmer själva med arbetslöshet och knappa förhållanden och dessutom hotas byns enda pub\, The Old Oak\, med nedläggning. Men pubägaren TJ Ballentyne får en personlig kontakt med den unga Yara och sakta börjar nya tankar och möjligheter växa fram.
URL:https://brosarp.se/https-brosarp-se-event-single-post-name/the-old-oak/
LOCATION:Kiviks bio\, Ordensgatan 5\, Kivik\, 277 30
CATEGORIES:Kiviks bio
ORGANIZER;CN="Kiviks bio":MAILTO:info@kiviksbio.se
END:VEVENT
BEGIN:VEVENT
DTSTART;TZID=Europe/Stockholm:20240129T170000
DTEND;TZID=Europe/Stockholm:20240129T180500
DTSTAMP:20260425T185353
CREATED:20240126T152125Z
LAST-MODIFIED:20240126T152139Z
UID:10215-1706547600-1706551500@brosarp.se
SUMMARY:Bokcirkel Brösarps bibliotek
DESCRIPTION:Vi träffas vid fyra tillfällen och samtalar om böcker. Inför första tillfället läser vi boken Det tredje ljuset\, små ting som dessa av Claire Keegan. \nVälkommen att anmäla dig till en eller flera träffar från 2/1. \nTid: Måndag 29/1 kl. 17.00-18.15 \nMåndag 26/2 kl.17.00-18.15 \nMåndag 25/3 kl. 17.00-18.15 \nMåndag 22/4 kl. 17.00-18.15 \nLäs mer på bibliotekets hemsida!
URL:https://brosarp.se/https-brosarp-se-event-single-post-name/bokcirkel-brosarps-bibliotek/
LOCATION:Brösarps bibliotek\, Magistervägen 9\, 273 50 Brösarp\, Sverige
CATEGORIES:Brösarps bibliotek
END:VEVENT
BEGIN:VEVENT
DTSTART;TZID=Europe/Stockholm:20240129T190000
DTEND;TZID=Europe/Stockholm:20240129T210000
DTSTAMP:20260425T185353
CREATED:20240126T135901Z
LAST-MODIFIED:20240126T135901Z
UID:10174-1706554800-1706562000@brosarp.se
SUMMARY:Extra-visning Hammarskjöld
DESCRIPTION:1961 hade den svenske stjärndiplomaten Dag Hammarskjöld bara ett år kvar av mandatperioden som FN:s generalsekreterare. Hans sju år på den posten präglades av intensivt arbete med en mängd svåra kriser i det kalla krigets tecken. Efter avslutad karriär väntade friden på Österlen och det älskade huset Backåkra. Den mest brännande konflikten 1961 var stridigheterna om makten i Kongo. Dag Hammarskjöld tog på sig uppdraget att mäkla fred och enighet i landet. Ett omöjligt uppdrag enligt många\, rentav ett självmordsuppdrag enligt andra. \nLäs mer på Kiviks bio!
URL:https://brosarp.se/https-brosarp-se-event-single-post-name/extra-visning-hammarskjold/
LOCATION:Kiviks bio\, Ordensgatan 5\, Kivik\, 277 30
ORGANIZER;CN="Kiviks bio":MAILTO:info@kiviksbio.se
END:VEVENT
BEGIN:VEVENT
DTSTART;TZID=Europe/Stockholm:20240131T100000
DTEND;TZID=Europe/Stockholm:20240131T103000
DTSTAMP:20260425T185353
CREATED:20240126T152449Z
LAST-MODIFIED:20240126T152449Z
UID:10218-1706695200-1706697000@brosarp.se
SUMMARY:Sagostund
DESCRIPTION:Kom och lyssna på en saga! Har vi tur\, dyker det även upp en och annan rolig filur\, oftast ett mjukt litet djur. Detta i form av en handdocka som till många skratt brukar locka. \nPlats: Brösarps bibliotek \nTid: Onsdagar 31/1\, 28/2\, 17/4 kl. 10.00-10.30 \nÅlder: 3-5 år \nAnmälan: Drop in \nLäs mer på bibliotekets hemsida!
URL:https://brosarp.se/https-brosarp-se-event-single-post-name/sagostund/
LOCATION:Brösarps bibliotek\, Magistervägen 9\, 273 50 Brösarp\, Sverige
CATEGORIES:Brösarps bibliotek
END:VEVENT
BEGIN:VEVENT
DTSTART;TZID=Europe/Stockholm:20240201T190000
DTEND;TZID=Europe/Stockholm:20240201T210000
DTSTAMP:20260425T185353
CREATED:20240126T140202Z
LAST-MODIFIED:20240126T140202Z
UID:10176-1706814000-1706821200@brosarp.se
SUMMARY:Perfect Days
DESCRIPTION:Hur blir man lycklig? Är det genom karriär\, pengar och makt? Eller genom något helt annat? Filmens huvudperson Hirayama arbetar som toalettstädare och trivs med sitt liv som också förgylls av hans stora kärlek till musik och litteratur. Men några oväntade möten rubbar hans harmoniska vardag och avslöjar mer av hans inte alltid så enkla förflutna. Perfect Days handlar om att finna skönhet\, värde och harmoni i den vardagliga världen. \nLäs mer på Kiviks bio! \n 
URL:https://brosarp.se/https-brosarp-se-event-single-post-name/perfect-days/
LOCATION:Kiviks bio\, Ordensgatan 5\, Kivik\, 277 30
CATEGORIES:Kiviks bio
ORGANIZER;CN="Kiviks bio":MAILTO:info@kiviksbio.se
END:VEVENT
BEGIN:VEVENT
DTSTART;TZID=Europe/Stockholm:20240204T180000
DTEND;TZID=Europe/Stockholm:20240204T200000
DTSTAMP:20260425T185353
CREATED:20240126T140528Z
LAST-MODIFIED:20240126T140528Z
UID:10178-1707069600-1707076800@brosarp.se
SUMMARY:När Sofia mötte Sylvain
DESCRIPTION:Canada\, 70-tal. Sophia och Xavier lever ett bekvämt liv tillsammans sedan många år. Båda är akademiker\, 40-åriga Sophia (Megali Blondeau) är professor i filosofi och paret umgås hemvant i Montreals intellektuella kretsar. När byggentreprenören Sylvain (Pierre-Yves Cardinal) kommer för att renovera parets fritidshus på landet blir Sophia och Sylvain våldsamt attraherade av varann. Kan en relation mellan individer som är varandras raka motsatser hålla i längden? \nLäs mer på Kiviks bio!
URL:https://brosarp.se/https-brosarp-se-event-single-post-name/nar-sofia-motte-sylvain/
LOCATION:Kiviks bio\, Ordensgatan 5\, Kivik\, 277 30
ORGANIZER;CN="Kiviks bio":MAILTO:info@kiviksbio.se
END:VEVENT
BEGIN:VEVENT
DTSTART;TZID=Europe/Stockholm:20240207T180000
DTEND;TZID=Europe/Stockholm:20240207T210000
DTSTAMP:20260425T185353
CREATED:20240126T152813Z
LAST-MODIFIED:20240126T152813Z
UID:10220-1707328800-1707339600@brosarp.se
SUMMARY:Stickkafé i Brösarp
DESCRIPTION:Vi träffas och stickar\, virkar\, broderar med mera. Ta gärna med egen fika.\nOnsdagar 10/1\, 24/1\, 7/2\, 21/2\, 6/3\, 3/4\, 17/4 kl. 18.00-21.00 \nAnmälan: Drop in \nObservera att du måste vara meröppetanvändare för att delta på delta på Stickkaféet.\nVälkommen in på bemannade öppettider för att skaffa en meröppettagg \nLäs mer på bibliotekets hemsida!
URL:https://brosarp.se/https-brosarp-se-event-single-post-name/stickkafe-i-brosarp/
LOCATION:Brösarps bibliotek\, Magistervägen 9\, 273 50 Brösarp\, Sverige
CATEGORIES:Brösarps bibliotek
END:VEVENT
BEGIN:VEVENT
DTSTART;TZID=Europe/Stockholm:20240207T183000
DTEND;TZID=Europe/Stockholm:20240207T203000
DTSTAMP:20260425T185353
CREATED:20240126T112125Z
LAST-MODIFIED:20240126T112125Z
UID:10133-1707330600-1707337800@brosarp.se
SUMMARY:Susanne Weibull berättar om sin anknytning till Brösarp och om Havängsbodarna i Kiviks hamn
DESCRIPTION:Susanne berättar om sin anknytning till Brösarp och hur det kom sig att hon driver Havängsbodarna i Kiviks hamn. \nEntré: 60 kr. \nAnmälan: Till Göran Alm\, branock20@gmail.com eller 0728-909424 \n 
URL:https://brosarp.se/https-brosarp-se-event-single-post-name/susanne-weibull-berattar-om-sin-anknytning-till-brosarp-och-om-havangsbodarna-i-kiviks-hamn/
LOCATION:Brösarps gamla bank\, Albovägen 23\, Brösarp
CATEGORIES:Brösarps Byagille
ATTACH;FMTTYPE=image/jpeg:https://brosarp.se/wp-content/uploads/2024/01/weibull.jpg
END:VEVENT
BEGIN:VEVENT
DTSTART;TZID=Europe/Stockholm:20240208T190000
DTEND;TZID=Europe/Stockholm:20240208T203000
DTSTAMP:20260425T185353
CREATED:20240126T140800Z
LAST-MODIFIED:20240126T140800Z
UID:10180-1707418800-1707424200@brosarp.se
SUMMARY:Dream Scenario
DESCRIPTION:En smart amerikansk skräckkomedi om virala fenomen och flockmentalitet. Den lågmälde akademikern Paul\, spelad av Nicholas Cage\, hamnar i fokus när han oförklarligt börjar dyka upp i tusentals människors drömmar. Paul som inte är van vid uppmärksamhet blir snabbt en berömdhet men hamnar i svårigheter när hans besök i omgivningens sömn blir allt mer mardrömslika. Han blir nu tvingad att hitta på ett sätt att hantera sitt ofrivilliga kändisskap. \nLäs mer på Kiviks bio!
URL:https://brosarp.se/https-brosarp-se-event-single-post-name/dream-scenario/
LOCATION:Kiviks bio\, Ordensgatan 5\, Kivik\, 277 30
CATEGORIES:Kiviks bio
ORGANIZER;CN="Kiviks bio":MAILTO:info@kiviksbio.se
END:VEVENT
BEGIN:VEVENT
DTSTART;TZID=Europe/Stockholm:20240211T180000
DTEND;TZID=Europe/Stockholm:20240211T203000
DTSTAMP:20260425T185353
CREATED:20240126T141051Z
LAST-MODIFIED:20240126T141051Z
UID:10182-1707674400-1707683400@brosarp.se
SUMMARY:Poor Things
DESCRIPTION:Yorgos Lanthimos (Killing of a Sacred Goat\, The Lobster\, The Favourite) är tillbaka med ännu en gränsöverskridande film som inte låter sig definieras i ordinarie kategorier. Bella Baxter (Emma Stone) uppväcks från de döda av den excentriske vetenskapsmannen doktor Goodwin Baxter (Willem Dafoe).\nSom ”nyfödd” ska hon lära sig hur man lever och agerar i världen\, vilket inte alltid låter sig göras utan konfrontationer. \nLäs mer på Kiviks bio!
URL:https://brosarp.se/https-brosarp-se-event-single-post-name/poor-things/
LOCATION:Kiviks bio\, Ordensgatan 5\, Kivik\, 277 30
CATEGORIES:Kiviks bio
ORGANIZER;CN="Kiviks bio":MAILTO:info@kiviksbio.se
END:VEVENT
BEGIN:VEVENT
DTSTART;TZID=Europe/Stockholm:20240212T183000
DTEND;TZID=Europe/Stockholm:20240212T183000
DTSTAMP:20260425T185353
CREATED:20240126T130011Z
LAST-MODIFIED:20240130T160826Z
UID:10150-1707762600-1707762600@brosarp.se
SUMMARY:Filmvisning
DESCRIPTION:Information om lokal kommer! \nFri entré
URL:https://brosarp.se/https-brosarp-se-event-single-post-name/filmvisning-3/
CATEGORIES:Brösarps Byagille
ATTACH;FMTTYPE=image/jpeg:https://brosarp.se/wp-content/uploads/2023/09/film-scaled.jpg
END:VEVENT
BEGIN:VEVENT
DTSTART;TZID=Europe/Stockholm:20240213T183000
DTEND;TZID=Europe/Stockholm:20240213T183000
DTSTAMP:20260425T185353
CREATED:20240126T130143Z
LAST-MODIFIED:20240130T161005Z
UID:10152-1707849000-1707849000@brosarp.se
SUMMARY:Filmvisning
DESCRIPTION:Information om lokal kommer! \nFri entré
URL:https://brosarp.se/https-brosarp-se-event-single-post-name/filmvisning-4/
CATEGORIES:Brösarps Byagille
ATTACH;FMTTYPE=image/jpeg:https://brosarp.se/wp-content/uploads/2023/09/film-scaled.jpg
END:VEVENT
BEGIN:VEVENT
DTSTART;TZID=Europe/Stockholm:20240215T190000
DTEND;TZID=Europe/Stockholm:20240215T204500
DTSTAMP:20260425T185353
CREATED:20240126T141440Z
LAST-MODIFIED:20240126T141440Z
UID:10184-1708023600-1708029900@brosarp.se
SUMMARY:The Zone of Interest
DESCRIPTION:En skildring av en familjs vardagsliv under 1940-talet med barnkalas\, trädgårdsarbete\, trevliga middagar och badutflykter. Fast filmen handlar inte om vilken familj som helst utan om Rudolf Höss’ familj i den ståtliga villan alldeles utanför förintelselägret Auschwitz.\nThe Zone of Interest blir en knivskarp studie av nazisternas perverterade logik där folkmord kan pågå parallellt med god omsorg om hus\, hem och barn. \nLäs mer på Kiviks bio!
URL:https://brosarp.se/https-brosarp-se-event-single-post-name/the-zone-of-interest/
LOCATION:Kiviks bio\, Ordensgatan 5\, Kivik\, 277 30
CATEGORIES:Kiviks bio
ORGANIZER;CN="Kiviks bio":MAILTO:info@kiviksbio.se
END:VEVENT
BEGIN:VEVENT
DTSTART;TZID=Europe/Stockholm:20240218T180000
DTEND;TZID=Europe/Stockholm:20240218T194000
DTSTAMP:20260425T185353
CREATED:20240126T141648Z
LAST-MODIFIED:20240126T141728Z
UID:10186-1708279200-1708285200@brosarp.se
SUMMARY:Döden är de levandes problem
DESCRIPTION:Äntligen en film i Kaurismäkis anda. En gravallvarlig  komedi om likbilsbranschens lågprischaufförer Risto och Arto. Dom gamla polarna har bara sitt arbete och tar emot de hemskaste uppdrag. Risto har spelat bort hem och familj och Arto har fått reda på att han knappt har nån hjärna. Tillsammans kompletterar dom varandra. Den ene har ett hjärta och den andre har en hjärna. Dom börjar spela ett högt spel med livet som insats och ingenting blir som förut. \nLäs mer på Kiviks bio!
URL:https://brosarp.se/https-brosarp-se-event-single-post-name/doden-ar-de-levandes-problem/
LOCATION:Kiviks bio\, Ordensgatan 5\, Kivik\, 277 30
CATEGORIES:Kiviks bio
ORGANIZER;CN="Kiviks bio":MAILTO:info@kiviksbio.se
END:VEVENT
BEGIN:VEVENT
DTSTART;TZID=Europe/Stockholm:20240221T140000
DTEND;TZID=Europe/Stockholm:20240221T153000
DTSTAMP:20260425T185353
CREATED:20240126T142044Z
LAST-MODIFIED:20240126T142044Z
UID:10189-1708524000-1708529400@brosarp.se
SUMMARY:Sportlovsmatinè! Superpolarna
DESCRIPTION:Den uppfinningsrika dockan Don har tröttnat på att alltid få spela tönten i dockteatern. Han vill vara hjälten någon gång\, och varför inte i verkliga livet? På jakt efter hjältedåd att utföra i Central Park slår han följe med den coola rappande leksakhunden DJ Doggy Dog\, och de träffar fler vänner bland parkens djur. När Don får höra att hans kompisar på teatern är i fara får han chansen att bli en riktig hjälte. \nLär mer på Kiviks bio!
URL:https://brosarp.se/https-brosarp-se-event-single-post-name/sportlovsmatine-superpolarna/
LOCATION:Kiviks bio\, Ordensgatan 5\, Kivik\, 277 30
ORGANIZER;CN="Kiviks bio":MAILTO:info@kiviksbio.se
END:VEVENT
BEGIN:VEVENT
DTSTART;TZID=Europe/Stockholm:20240221T180000
DTEND;TZID=Europe/Stockholm:20240221T210000
DTSTAMP:20260425T185353
CREATED:20240126T153122Z
LAST-MODIFIED:20240126T153122Z
UID:10222-1708538400-1708549200@brosarp.se
SUMMARY:Stickkafé i Brösarp
DESCRIPTION:Vi träffas och stickar\, virkar\, broderar med mera. Ta gärna med egen fika.\nOnsdagar 10/1\, 24/1\, 7/2\, 21/2\, 6/3\, 3/4\, 17/4 kl. 18.00-21.00 \nAnmälan: Drop in \nObservera att du måste vara meröppetanvändare för att delta på delta på Stickkaféet.\nVälkommen in på bemannade öppettider för att skaffa en meröppettagg \nLäs mer på bibliotekets hemsida!
URL:https://brosarp.se/https-brosarp-se-event-single-post-name/stickkafe-i-brosarp-2/
LOCATION:Brösarps bibliotek\, Magistervägen 9\, 273 50 Brösarp\, Sverige
CATEGORIES:Brösarps bibliotek
END:VEVENT
BEGIN:VEVENT
DTSTART;TZID=Europe/Stockholm:20240222T143000
DTEND;TZID=Europe/Stockholm:20240222T160000
DTSTAMP:20260425T185353
CREATED:20240126T153409Z
LAST-MODIFIED:20240126T153409Z
UID:10224-1708612200-1708617600@brosarp.se
SUMMARY:Lyssna & pyssla: Rymden
DESCRIPTION:Vi pratar om böcker och filmer på tema rymden.\nKom gärna med ditt bästa bok- eller filmtips!\nDärefter skapar vi pop-up kort med stjärnglans. \nÅlder: 7-12 år \nAnmälan: brosarpsbibliotek@tomelilla.se \nLäs mer på bibliotekets hemsida!
URL:https://brosarp.se/https-brosarp-se-event-single-post-name/lyssna-pyssla-rymden/
LOCATION:Brösarps bibliotek\, Magistervägen 9\, 273 50 Brösarp\, Sverige
CATEGORIES:Brösarps bibliotek
END:VEVENT
BEGIN:VEVENT
DTSTART;TZID=Europe/Stockholm:20240222T180000
DTEND;TZID=Europe/Stockholm:20240222T193000
DTSTAMP:20260425T185353
CREATED:20240126T142432Z
LAST-MODIFIED:20240126T142432Z
UID:10191-1708624800-1708630200@brosarp.se
SUMMARY:Sportlovskvällsfilm! Håkan Bråkan 2
DESCRIPTION:Håkan Bråkan (Silas Strand) vill verkligen ha ett husdjur\, men då måste han först visa sig tillräckligt ansvarsfull. Frågan är om Håkan kan klara en hel vecka på scoutläger utan att ställa till med oreda. Speciellt som han får tag på en skattkarta och det dyker upp mystiska tjuvar. Kan han låta bli att kasta sig ut i nya äventyr? \nLäs mer på Kiviks bio!
URL:https://brosarp.se/https-brosarp-se-event-single-post-name/sportlovskvallsfilm-hakan-brakan-2/
LOCATION:Kiviks bio\, Ordensgatan 5\, Kivik\, 277 30
CATEGORIES:Kiviks bio
ORGANIZER;CN="Kiviks bio":MAILTO:info@kiviksbio.se
END:VEVENT
BEGIN:VEVENT
DTSTART;TZID=Europe/Stockholm:20240225T180000
DTEND;TZID=Europe/Stockholm:20240225T201000
DTSTAMP:20260425T185353
CREATED:20240126T144312Z
LAST-MODIFIED:20240126T144312Z
UID:10193-1708884000-1708891800@brosarp.se
SUMMARY:Bastarden
DESCRIPTION:Den fattige armékaptenen Ludvig Kahlens (Mads Mikkelsen) högsta önskan är att skapa sig en framtid och ett adligt namn genom att bygga en blomstrande bosättning i kungens namn på den Jylländska heden. Storgodsägaren Frederik de Schinkel motsätter sig detta eftersom han ser hedlandskapet kring godset som sin egendom. Året är 1755 och maktspelet mellan kungamakten och storgodsen framträder skarpt genom de två männens fiendskap och strid. \nLäs mer på Kiviks bio!
URL:https://brosarp.se/https-brosarp-se-event-single-post-name/bastarden/
LOCATION:Kiviks bio\, Ordensgatan 5\, Kivik\, 277 30
CATEGORIES:Kiviks bio
ORGANIZER;CN="Kiviks bio":MAILTO:info@kiviksbio.se
END:VEVENT
BEGIN:VEVENT
DTSTART;TZID=Europe/Stockholm:20240226T170000
DTEND;TZID=Europe/Stockholm:20240226T180500
DTSTAMP:20260425T185353
CREATED:20240126T153659Z
LAST-MODIFIED:20240126T153659Z
UID:10226-1708966800-1708970700@brosarp.se
SUMMARY:Bokcirkel i Brösarp
DESCRIPTION:Vi träffas vid fyra tillfällen och samtalar om böcker. Inför första tillfället läser vi boken Det tredje ljuset\, små ting som dessa av Claire Keegan. \nVälkommen att anmäla dig till en eller flera träffar från 2/1. \nTid: Måndag 29/1 kl. 17.00-18.15 \nMåndag 26/2 kl.17.00-18.15 \nMåndag 25/3 kl. 17.00-18.15 \nMåndag 22/4 kl. 17.00-18.15 \nAnmälan: brosarpsbibliotek@tomelilla.se \nLäs mer på bibliotekets hemsida!
URL:https://brosarp.se/https-brosarp-se-event-single-post-name/bokcirkel-i-brosarp/
LOCATION:Brösarps bibliotek\, Magistervägen 9\, 273 50 Brösarp\, Sverige
CATEGORIES:Brösarps bibliotek
END:VEVENT
BEGIN:VEVENT
DTSTART;TZID=Europe/Stockholm:20240228T100000
DTEND;TZID=Europe/Stockholm:20240228T103000
DTSTAMP:20260425T185353
CREATED:20240126T153958Z
LAST-MODIFIED:20240126T153958Z
UID:10228-1709114400-1709116200@brosarp.se
SUMMARY:Sagostund
DESCRIPTION:Kom och lyssna på en saga! Har vi tur\, dyker det även upp en och annan rolig filur\, oftast ett mjukt litet djur. Detta i form av en handdocka som till många skratt brukar locka. \nPlats: Brösarps bibliotek \nTid: Onsdagar 28/2 och 17/4 kl. 10.00-10.30 \nÅlder: 3-5 år \nAnmälan: Drop in \nLäs mer på bibliotekets hemsida!
URL:https://brosarp.se/https-brosarp-se-event-single-post-name/sagostund-2/
LOCATION:Brösarps bibliotek\, Magistervägen 9\, 273 50 Brösarp\, Sverige
CATEGORIES:Brösarps bibliotek
END:VEVENT
BEGIN:VEVENT
DTSTART;TZID=Europe/Stockholm:20240229T190000
DTEND;TZID=Europe/Stockholm:20240229T190000
DTSTAMP:20260425T185353
CREATED:20240126T113804Z
LAST-MODIFIED:20240130T161533Z
UID:10138-1709233200-1709233200@brosarp.se
SUMMARY:Årsmöte i Byagillet
DESCRIPTION:Årsmöte i Byagillet \nPlats: Brösarps IF:s lokaler\nTid: 19.00 \nKaffe serveras.
URL:https://brosarp.se/https-brosarp-se-event-single-post-name/arsmote-i-byagillet/
LOCATION:Brösarps IF klubbstuga\, Brunnsviksvägen 26\, Brösarp\, Sverige
CATEGORIES:Brösarps Byagille
ATTACH;FMTTYPE=image/jpeg:https://brosarp.se/wp-content/uploads/2024/01/arsmote.jpg
END:VEVENT
BEGIN:VEVENT
DTSTART;TZID=Europe/Stockholm:20240229T190000
DTEND;TZID=Europe/Stockholm:20240229T210000
DTSTAMP:20260425T185353
CREATED:20240126T144553Z
LAST-MODIFIED:20240126T144553Z
UID:10195-1709233200-1709240400@brosarp.se
SUMMARY:Lärarrummet
DESCRIPTION:En elev till den nya läraren Carla blir anklagad för att ha stulit pengar ur lärarrummet. Carla\, som är ambitiös och arbetar för alla elevers respektfulla bemötande av varandra\, börjar göra en egen undersökning av vad som hänt. Ilker Çatak skapar en förtätad stämning kring vad som är rätt\, var lojaliteter ligger och om sanningen alltid är bäst för alla. Ett drama om civilkurage och idealism och om hur skolan kan spegla världen utanför. \nLäs mer på Kiviks bio!
URL:https://brosarp.se/https-brosarp-se-event-single-post-name/lararrummet/
LOCATION:Kiviks bio\, Ordensgatan 5\, Kivik\, 277 30
CATEGORIES:Kiviks bio
ORGANIZER;CN="Kiviks bio":MAILTO:info@kiviksbio.se
END:VEVENT
BEGIN:VEVENT
DTSTART;TZID=Europe/Stockholm:20240303T180000
DTEND;TZID=Europe/Stockholm:20240303T204500
DTSTAMP:20260425T185353
CREATED:20240126T144815Z
LAST-MODIFIED:20240126T144815Z
UID:10197-1709488800-1709498700@brosarp.se
SUMMARY:Dune Part 2
DESCRIPTION:Äntligen kommer uppföljaren till Dune och vi får se hur unge Paul Atreides kommer att hantera makten över planeten och avvärja den katastrof som hotar hela universum. Ondska\, godhet\, kärlek och lojaliteter fyller denna storslagna science-fiction och actionfilm med specialeffekter och stridsscener som får publiken att dra efter andan. \nLäs mer på Kiviks bio!
URL:https://brosarp.se/https-brosarp-se-event-single-post-name/dune-part-2/
LOCATION:Kiviks bio\, Ordensgatan 5\, Kivik\, 277 30
CATEGORIES:Kiviks bio
ORGANIZER;CN="Kiviks bio":MAILTO:info@kiviksbio.se
END:VEVENT
BEGIN:VEVENT
DTSTART;TZID=Europe/Stockholm:20240306T150000
DTEND;TZID=Europe/Stockholm:20240306T165000
DTSTAMP:20260425T185353
CREATED:20240126T145114Z
LAST-MODIFIED:20240126T145114Z
UID:10199-1709737200-1709743800@brosarp.se
SUMMARY:Favorit i repris Ett sista race
DESCRIPTION:Här kommer en ny chans att se julhelgens fullbokade komedi\, den stjärnspäckade Ett sista Race. Streetracing-legenden Dennis (David Hellenius)\, som levt hela sitt liv på fel sida om lagen\, har bestämt sig för att bli en vanlig ansvarsfull Svenson. Men när han får höra att dottern Hanna (Elsa Öhrn) ska delta i ett race med sin nya kille Charlie (Malte Gardinger) ger sig Dennis och ex-frun Tove (Malin Åkerman) iväg för att hämta hem dottern. \nLäs mer på Kiviks bio! 
URL:https://brosarp.se/https-brosarp-se-event-single-post-name/favorit-i-repris-ett-sista-race/
LOCATION:Kiviks bio\, Ordensgatan 5\, Kivik\, 277 30
CATEGORIES:Kiviks bio
ORGANIZER;CN="Kiviks bio":MAILTO:info@kiviksbio.se
END:VEVENT
BEGIN:VEVENT
DTSTART;TZID=Europe/Stockholm:20240306T180000
DTEND;TZID=Europe/Stockholm:20240306T210000
DTSTAMP:20260425T185353
CREATED:20240126T154312Z
LAST-MODIFIED:20240305T192406Z
UID:10230-1709748000-1709758800@brosarp.se
SUMMARY:Stickkafé
DESCRIPTION:Vi träffas och stickar\, virkar\, broderar med mera. Ta gärna med egen fika. \nOnsdagar 10/1\, 24/1\, 7/2\, 21/2\, 6/3\, 3/4\, 17/4 kl. 18.00-21.00 \nAnmälan: Drop in \nObservera att du måste vara meröppetanvändare för att delta på delta på Stickkaféet.\nVälkommen in på bemannade öppettider för att skaffa en meröppettagg \nLäs mer på bibliotekets hemsida!
URL:https://brosarp.se/https-brosarp-se-event-single-post-name/stickkafe/
LOCATION:Brösarps bibliotek\, Magistervägen 9\, 273 50 Brösarp\, Sverige
CATEGORIES:Brösarps bibliotek
END:VEVENT
BEGIN:VEVENT
DTSTART;TZID=Europe/Stockholm:20240307T190000
DTEND;TZID=Europe/Stockholm:20240307T210000
DTSTAMP:20260425T185353
CREATED:20240126T145503Z
LAST-MODIFIED:20240126T145503Z
UID:10201-1709838000-1709845200@brosarp.se
SUMMARY:Det finns alltid en morgondag
DESCRIPTION:I efterkrigstidens Rom kämpar trebarnsmodern Delia för att få tillvaron att gå ihop. Den lynnige maken Ivano är våldsam mot henne och den sängliggande svärfadern\, som hon också tar hand om\, styr och domderar. Hennes nöje är att skvallra med bästa väninnan och att fantisera om en bättre framtid för dottern Marcella\, som förälskat sig i en till synes välartad pojke från medelklassen. \nLäs mer på Kiviks bio!
URL:https://brosarp.se/https-brosarp-se-event-single-post-name/det-finns-alltid-en-morgondag/
LOCATION:Kiviks bio\, Ordensgatan 5\, Kivik\, 277 30
CATEGORIES:Kiviks bio
ORGANIZER;CN="Kiviks bio":MAILTO:info@kiviksbio.se
END:VEVENT
BEGIN:VEVENT
DTSTART;TZID=Europe/Stockholm:20240310T180000
DTEND;TZID=Europe/Stockholm:20240310T200000
DTSTAMP:20260425T185353
CREATED:20240126T145731Z
LAST-MODIFIED:20240126T145731Z
UID:10203-1710093600-1710100800@brosarp.se
SUMMARY:May December
DESCRIPTION:”Natalie Portman (Black Swan\, Léon) och Julianne Moore (Short Cuts\, The Hours) kartlägger amerikansk skandalkultur i Bergman-inspirerad kritikerfavorit av Todd Haynes. Det har gått två decennier sedan Gracie (Moore) skapade en tabloidskandal i småstaden Savannah. Som 36-åring inledde hon en förbjuden relation med 13-årige Joe… Två decennier senare knackar Elizabeth (Portman) på dörren. Hon ska spela Gracie i en indiefilm\, och vill lära känna den ökända kvinnan hon ska porträttera. Gamla trauman och nya passioner väcks till liv i ett Persona-doftande psykodrama om bisarr kändiskultur och blodsugande konstnärsskap signerat queerauteuren och melodramamästaren Todd Haynes (Carol\, Far From Heaven)” \nLäs mer på Kiviks bio!
URL:https://brosarp.se/https-brosarp-se-event-single-post-name/may-december/
LOCATION:Kiviks bio\, Ordensgatan 5\, Kivik\, 277 30
CATEGORIES:Kiviks bio
ORGANIZER;CN="Kiviks bio":MAILTO:info@kiviksbio.se
END:VEVENT
BEGIN:VEVENT
DTSTART;TZID=Europe/Stockholm:20240313T183000
DTEND;TZID=Europe/Stockholm:20240313T183000
DTSTAMP:20260425T185353
CREATED:20240126T131152Z
LAST-MODIFIED:20240226T164559Z
UID:10154-1710354600-1710354600@brosarp.se
SUMMARY:Studiebesök på Talldungen gårdshotell
DESCRIPTION:Byagillet arrangerar studiebesök på Talldungens gårdhotell. Här får vi höra Emma Höök tala om resan från Uppland till Skåne\, varför det blev Brösarp och Talldungen. Dess historia\, verksamheten förr\, idag och i framtiden. \nAnmälan görs till Göran Alm via mail: branock20@gmail.com \nVälkomna!
URL:https://brosarp.se/https-brosarp-se-event-single-post-name/forelasning-talldungen/
LOCATION:Talldungen\, Bengtemöllevägen 7\, Brösarp\, Sverige
CATEGORIES:Brösarps Byagille
END:VEVENT
END:VCALENDAR