BEGIN:VCALENDAR
VERSION:2.0
PRODID:-//Brösarp - ECPv6.15.20//NONSGML v1.0//EN
CALSCALE:GREGORIAN
METHOD:PUBLISH
X-WR-CALNAME:Brösarp
X-ORIGINAL-URL:https://brosarp.se
X-WR-CALDESC:Händelser för Brösarp
REFRESH-INTERVAL;VALUE=DURATION:PT1H
X-Robots-Tag:noindex
X-PUBLISHED-TTL:PT1H
BEGIN:VTIMEZONE
TZID:Europe/Stockholm
BEGIN:DAYLIGHT
TZOFFSETFROM:+0100
TZOFFSETTO:+0200
TZNAME:CEST
DTSTART:20230326T010000
END:DAYLIGHT
BEGIN:STANDARD
TZOFFSETFROM:+0200
TZOFFSETTO:+0100
TZNAME:CET
DTSTART:20231029T010000
END:STANDARD
BEGIN:DAYLIGHT
TZOFFSETFROM:+0100
TZOFFSETTO:+0200
TZNAME:CEST
DTSTART:20240331T010000
END:DAYLIGHT
BEGIN:STANDARD
TZOFFSETFROM:+0200
TZOFFSETTO:+0100
TZNAME:CET
DTSTART:20241027T010000
END:STANDARD
BEGIN:DAYLIGHT
TZOFFSETFROM:+0100
TZOFFSETTO:+0200
TZNAME:CEST
DTSTART:20250330T010000
END:DAYLIGHT
BEGIN:STANDARD
TZOFFSETFROM:+0200
TZOFFSETTO:+0100
TZNAME:CET
DTSTART:20251026T010000
END:STANDARD
END:VTIMEZONE
BEGIN:VEVENT
DTSTART;TZID=Europe/Stockholm:20240502T190000
DTEND;TZID=Europe/Stockholm:20240502T210000
DTSTAMP:20260424T141010
CREATED:20231213T140417Z
LAST-MODIFIED:20231213T140417Z
UID:10007-1714676400-1714683600@brosarp.se
SUMMARY:Minneskonsert till Olle Adolphson
DESCRIPTION:”Ge mig en dag” skrev Olle Adolphson\, visan som folk tog till sig och döpte till Österlenvisan. Nu ger vi Olle en egen dag med en minneskonsert i Ravlunda kyrka och kransnedläggning på hans grav efter konserten. Det sker på den dagen han skulle ha fyllt 90 år. \nOm du vänder blicken österut innan du går in i kyrkan ser du havet vid Haväng där Olle själv för första gången framträdde med Österlenvisan. Vänd blicken västerut så skymtar du Olles grav och den klotformade gravstenen. Tag sedan steget in i det intima kyrkorummet\, här får du denna afton lyssna på några av Olle Adolphsons mest omtyckta visor både genom solosång och kör. Konsertkvällen bjuder även på berättelser om Olles liv på Österlen. \nMedverkanden är jazzsångerskan Mimi Terris\, vissångaren och gitarristen Anders Anton\, Älskade Olle-kören under ledning av Alf Bengtsson och Olle Adolphson-kännaren Börje Bengtsson. \nEfter konserten sker kransnedläggning vid graven med unison sång ”Ge mig en dag”. \nPris: 330 kr
URL:https://brosarp.se/https-brosarp-se-event-single-post-name/minneskonsert-till-olle-adolphson/
LOCATION:Ravlunda kyrka\, Kyrkobacken 7\, Kivik\, 27737\, Sverige
ATTACH;FMTTYPE=image/jpeg:https://brosarp.se/wp-content/uploads/2023/12/Adolfsson-opt.jpg
ORGANIZER;CN="F%C3%A4hund Evenemang AB":MAILTO:borje@fahundevenemang.se
END:VEVENT
BEGIN:VEVENT
DTSTART;TZID=Europe/Stockholm:20240505T100000
DTEND;TZID=Europe/Stockholm:20240505T130000
DTSTAMP:20260424T141010
CREATED:20240126T132347Z
LAST-MODIFIED:20240130T164533Z
UID:10161-1714903200-1714914000@brosarp.se
SUMMARY:Bakluckeloppis
DESCRIPTION:Fynda eller sälj! Ett tillfälle där fantastiska saker kan byta ägare. \n50 kr cykel\n100 :- bil\n150 :- bil med släp
URL:https://brosarp.se/https-brosarp-se-event-single-post-name/bakluckeloppis-4/
LOCATION:Gamla vägstationsområdet\, Smedjevägen 11\, Brösarp
CATEGORIES:Brösarps Byagille
ATTACH;FMTTYPE=image/jpeg:https://brosarp.se/wp-content/uploads/2023/04/loppis-e1681385509901.jpg
END:VEVENT
BEGIN:VEVENT
DTSTART;TZID=Europe/Stockholm:20240508T170000
DTEND;TZID=Europe/Stockholm:20240508T170000
DTSTAMP:20260424T141010
CREATED:20240126T133955Z
LAST-MODIFIED:20240505T153823Z
UID:10163-1715187600-1715187600@brosarp.se
SUMMARY:Kristi himmelsfärdsafton
DESCRIPTION:Just nu pågår en ombyggnation på Byaängen\, vilket gör att det traditionella Kristi Himmelsfärds afton firandet inte kan genomföras som planerat. \nVi ber om ursäkt för detta. \nNationaldagen den 6 juni 2024 firas på Byaängen som planerat.
URL:https://brosarp.se/https-brosarp-se-event-single-post-name/kristi-himmelsfardsafton/
LOCATION:Brösarps Byaäng
CATEGORIES:Brösarps Byagille
END:VEVENT
BEGIN:VEVENT
DTSTART;TZID=Europe/Stockholm:20240511T190000
DTEND;TZID=Europe/Stockholm:20240511T221500
DTSTAMP:20260424T141010
CREATED:20240126T151640Z
LAST-MODIFIED:20240126T151640Z
UID:10213-1715454000-1715465700@brosarp.se
SUMMARY:Madama Butterfly
DESCRIPTION:Direkt från Metropolitanoperan i New York \nGiacomo Puccinis klassiska opera Madama Butterfly nu med sopranen Asmik Grigorian i huvudrollen som i sin Met-debut tar sig an den krävande rollen som Cio-Cio-San\, den godtrogna geishan i hjärtat av Puccinis tragedi. Tenoren Jonathan Tetelman är den känslolösa amerikanska sjöofficeren Pinkerton vars svek förstör henne.\nBerättelsen om den olyckliga kärleken som plågar den unga japanskan är en av världens mest kända tragiska operor och de tidlösa melodierna (arian Un bel di och Humming Chorus) har älskats av operabesökare världen runt i många år. \nLäs mer på Kiviks bio!
URL:https://brosarp.se/https-brosarp-se-event-single-post-name/madama-butterfly/
LOCATION:Kiviks bio\, Ordensgatan 5\, Kivik\, 277 30
CATEGORIES:Kiviks bio
ORGANIZER;CN="Kiviks bio":MAILTO:info@kiviksbio.se
END:VEVENT
BEGIN:VEVENT
DTSTART;TZID=Europe/Stockholm:20240530T143000
DTEND;TZID=Europe/Stockholm:20240530T153000
DTSTAMP:20260424T141010
CREATED:20240126T162033Z
LAST-MODIFIED:20240305T191020Z
UID:10248-1717079400-1717083000@brosarp.se
SUMMARY:Bokfika för dig 9-12 år
DESCRIPTION:Vi tipsar varandra om bra böcker inför sommarlovet. Biblioteket bjuder på fika. \nÅlder: 9-12 år \nAnmälan: brosarpsbibliotek@tomelilla.se \nLäs mer på bibliotekets hemsida! 
URL:https://brosarp.se/https-brosarp-se-event-single-post-name/bokfika-for-dig-9-12-ar/
LOCATION:Brösarps bibliotek\, Magistervägen 9\, 273 50 Brösarp\, Sverige
CATEGORIES:Brösarps bibliotek
END:VEVENT
END:VCALENDAR