BEGIN:VCALENDAR
VERSION:2.0
PRODID:-//Brösarp - ECPv6.15.20//NONSGML v1.0//EN
CALSCALE:GREGORIAN
METHOD:PUBLISH
X-ORIGINAL-URL:https://brosarp.se
X-WR-CALDESC:Händelser för Brösarp
REFRESH-INTERVAL;VALUE=DURATION:PT1H
X-Robots-Tag:noindex
X-PUBLISHED-TTL:PT1H
BEGIN:VTIMEZONE
TZID:Europe/Stockholm
BEGIN:DAYLIGHT
TZOFFSETFROM:+0100
TZOFFSETTO:+0200
TZNAME:CEST
DTSTART:20230326T010000
END:DAYLIGHT
BEGIN:STANDARD
TZOFFSETFROM:+0200
TZOFFSETTO:+0100
TZNAME:CET
DTSTART:20231029T010000
END:STANDARD
BEGIN:DAYLIGHT
TZOFFSETFROM:+0100
TZOFFSETTO:+0200
TZNAME:CEST
DTSTART:20240331T010000
END:DAYLIGHT
BEGIN:STANDARD
TZOFFSETFROM:+0200
TZOFFSETTO:+0100
TZNAME:CET
DTSTART:20241027T010000
END:STANDARD
BEGIN:DAYLIGHT
TZOFFSETFROM:+0100
TZOFFSETTO:+0200
TZNAME:CEST
DTSTART:20250330T010000
END:DAYLIGHT
BEGIN:STANDARD
TZOFFSETFROM:+0200
TZOFFSETTO:+0100
TZNAME:CET
DTSTART:20251026T010000
END:STANDARD
END:VTIMEZONE
BEGIN:VEVENT
DTSTART;TZID=Europe/Stockholm:20240606T171500
DTEND;TZID=Europe/Stockholm:20240606T190000
DTSTAMP:20260424T124657
CREATED:20240126T134614Z
LAST-MODIFIED:20240530T185936Z
UID:10165-1717694100-1717700400@brosarp.se
SUMMARY:Nationaldagsfirande
DESCRIPTION:Nationaldagskommittén i Brösarp bjuder den 6 juni 2024 in till Nationaldagsfirande \n17:15 Samling på Brinkehems parkering för sång och sedan marsch till Byaängen \nProgrampunkter:\n– Tomelilla Ungdomsorkester spelar\n– Sång av systrarna Pyk\n– Högtidstal av Cerny Eriksson-Ståhl\n– Fallskärmshoppning med flagga 18:00 (om vädret tillåter) \nScouterna har grillad korv till försäljning!
URL:https://brosarp.se/https-brosarp-se-event-single-post-name/nationaldagsfirande-2/
LOCATION:Brösarps Byaäng
CATEGORIES:Brösarps Byagille
ATTACH;FMTTYPE=image/jpeg:https://brosarp.se/wp-content/uploads/2024/01/sv-flaggan.jpg
END:VEVENT
BEGIN:VEVENT
DTSTART;TZID=Europe/Stockholm:20240615T180000
DTEND;TZID=Europe/Stockholm:20240615T210000
DTSTAMP:20260424T124657
CREATED:20240530T193133Z
LAST-MODIFIED:20240530T193133Z
UID:10364-1718474400-1718485200@brosarp.se
SUMMARY:Drakamöllan Operafestival presenterar Askungen
DESCRIPTION:Fullt fokus på Operafestivalen där färgsprakande Askungen inleder Lördagen den 15 juni klockan 18 \nNär vi för 16 året i rad bjuder in till Operafestival är det med en färgsprakande uppsättning av Rossinis klassiska opera Askungen. Handlingen känner vi alla och det gör det lätt att hänga med även om föreställningen sjungs på danska. Med kostymer i regnbågens alla färger får också ögat sitt. Kom och låt er förtrollas. \nSom alltid är det Guido Paevatalu som håller i trådarna och det här året har han och ensemblen fullt upp för det vi får uppleva är en helt ny föreställning. Det kommer att bli premiärnerver på riktigt. När premiären är avklarad går föreställningen på turné runt om i Danmark. \nAlla minns vi sagan om Askungen. Om inte annat från Kalle Anka och hans vänner på julafton eller från Bröderna Grimms klassiska äventyr. Men redan i antikens Grekland och i Kina finns sagor med liknande motiv där en märkvärdig sko hamnar hos kungen eller faraon som börjar leta efter skons ägare. \nHär utspelar sig uppsättningen i nutid för att visa att en äldre klassisk opera har lika mycket att säga oss idag. Föreställningen följer den ursprungliga handlingen och vi möter först Askungen som en förtryckt och bespottad piga i en dysfunktionell familj. Vi får vi uppleva hur hon blommar ut till en sann hjältinna som frigör sig från alla traditionella förväntningar. Hon får sin pris men visar oss också att förlåtelse är möjlig. \nGuido har valt att också låta dagens debatt om kön bli en del av operan. Allt flätas in i den ursprungliga handlingen på ett humoristiskt och lättsamt sätt precis som det skall vara i en riktig buffo opera. I slutscenen väntar en stor överraskning! \nVår Askunge har redan fått lysande recensioner\nRollbesättningen är en blandning av erfarna och unga sångare för att skapa den speciella dynamik som uppstår när flera generationer interagerar och arbetar tillsammans. \nJosefine Andersson. som debuterade på Drakamöllan 2018\, höjdes till skyarna för sin tolkning av Askungen på Folkoperan i Stockholm. Som prinsen möter vi Petter Moen\, norsk tenor. Hans kammartjänare är Fredrik Rolin. \nDen elaka styvfadern sjungs av Guido själv. De två döttrarna sjungs av Signe Asmussen och Niels Jörgen Riis. Hans Lawaetz uppträder i rollen som lärare och filosof. Kapellmästare är Leif Greibe som leder en orkestern bestående av pianao\, violin\, cello och klarinett. \nKostnad: 600:- barn och ungdomar gratis\nBiljetter: Beställ biljetter via deras hemsida – Drakamöllan
URL:https://brosarp.se/https-brosarp-se-event-single-post-name/drakamollan-operafestival-presenterar-askungen/
LOCATION:Drakamöllans gårdshotell\, Drakamöllan 108\, Degeberga\, 297 95
ATTACH;FMTTYPE=image/jpeg:https://brosarp.se/wp-content/uploads/2024/05/askungen.jpg
ORGANIZER;CN="Drakam%C3%B6llans g%C3%A5rdshotell":MAILTO:info@drakamollan.com
END:VEVENT
BEGIN:VEVENT
DTSTART;TZID=Europe/Stockholm:20240616T100000
DTEND;TZID=Europe/Stockholm:20240616T130000
DTSTAMP:20260424T124657
CREATED:20240126T134804Z
LAST-MODIFIED:20240130T164737Z
UID:10168-1718532000-1718542800@brosarp.se
SUMMARY:Bakluckeloppis
DESCRIPTION:Fynda eller sälj! Ett tillfälle där fantastiska saker kan byta ägare. \n50 kr cykel\n100 :- bil\n150 :- bil med släp
URL:https://brosarp.se/https-brosarp-se-event-single-post-name/bakluckeloppis-5/
LOCATION:Gamla vägstationsområdet\, Smedjevägen 11\, Brösarp
CATEGORIES:Brösarps Byagille
ATTACH;FMTTYPE=image/jpeg:https://brosarp.se/wp-content/uploads/2023/04/loppis-e1681385509901.jpg
END:VEVENT
BEGIN:VEVENT
DTSTART;TZID=Europe/Stockholm:20240620T180000
DTEND;TZID=Europe/Stockholm:20240620T180000
DTSTAMP:20260424T124657
CREATED:20240222T162550Z
LAST-MODIFIED:20240222T162550Z
UID:10298-1718906400-1718906400@brosarp.se
SUMMARY:Vi förbereder midsommarstången
DESCRIPTION:Ta med blommor!
URL:https://brosarp.se/https-brosarp-se-event-single-post-name/vi-forbereder-midsommarstangen/
LOCATION:Brösarps Byaäng
END:VEVENT
BEGIN:VEVENT
DTSTART;TZID=Europe/Stockholm:20240621T130000
DTEND;TZID=Europe/Stockholm:20240621T130000
DTSTAMP:20260424T124657
CREATED:20240126T134949Z
LAST-MODIFIED:20240605T185126Z
UID:10170-1718974800-1718974800@brosarp.se
SUMMARY:Midsommarfirande i Brösarp
DESCRIPTION:Välkommen att fira Midsommar med Brösarps byagille \nkl. 13.00 kläs midsommarstången med egna medhavda blommor.\nKl. 14.00 reser vi stången och börjar dansen. \nFörtäring: medhavd picknick\, barn bjuds på glass.
URL:https://brosarp.se/https-brosarp-se-event-single-post-name/midsommarfirande-2/
LOCATION:Brösarps Byaäng
CATEGORIES:Brösarps Byagille
ATTACH;FMTTYPE=image/jpeg:https://brosarp.se/wp-content/uploads/2023/04/midsommarblommor-e1681386986689.jpg
END:VEVENT
END:VCALENDAR