BEGIN:VCALENDAR
VERSION:2.0
PRODID:-//Brösarp - ECPv6.15.20//NONSGML v1.0//EN
CALSCALE:GREGORIAN
METHOD:PUBLISH
X-ORIGINAL-URL:https://brosarp.se
X-WR-CALDESC:Händelser för Brösarp
REFRESH-INTERVAL;VALUE=DURATION:PT1H
X-Robots-Tag:noindex
X-PUBLISHED-TTL:PT1H
BEGIN:VTIMEZONE
TZID:Europe/Stockholm
BEGIN:DAYLIGHT
TZOFFSETFROM:+0100
TZOFFSETTO:+0200
TZNAME:CEST
DTSTART:20230326T010000
END:DAYLIGHT
BEGIN:STANDARD
TZOFFSETFROM:+0200
TZOFFSETTO:+0100
TZNAME:CET
DTSTART:20231029T010000
END:STANDARD
BEGIN:DAYLIGHT
TZOFFSETFROM:+0100
TZOFFSETTO:+0200
TZNAME:CEST
DTSTART:20240331T010000
END:DAYLIGHT
BEGIN:STANDARD
TZOFFSETFROM:+0200
TZOFFSETTO:+0100
TZNAME:CET
DTSTART:20241027T010000
END:STANDARD
BEGIN:DAYLIGHT
TZOFFSETFROM:+0100
TZOFFSETTO:+0200
TZNAME:CEST
DTSTART:20250330T010000
END:DAYLIGHT
BEGIN:STANDARD
TZOFFSETFROM:+0200
TZOFFSETTO:+0100
TZNAME:CET
DTSTART:20251026T010000
END:STANDARD
END:VTIMEZONE
BEGIN:VEVENT
DTSTART;TZID=Europe/Stockholm:20240901T110000
DTEND;TZID=Europe/Stockholm:20240901T160000
DTSTAMP:20260424T080839
CREATED:20240606T185327Z
LAST-MODIFIED:20240813T163005Z
UID:10373-1725188400-1725206400@brosarp.se
SUMMARY:Jubileum i Brösarp
DESCRIPTION:Varmt välkomna till en dag med försäljning av lokala produkter och hantverk\, ankrace\, servering\, femkamp\, ponnyridning\, hoppborg och mycket musik.\n15.00 uppträder Lasse & Emil Sigfridsson
URL:https://brosarp.se/https-brosarp-se-event-single-post-name/jubileum-i-brosarp/
LOCATION:Brösarps Byaäng
CATEGORIES:Brösarps Byagille
ATTACH;FMTTYPE=image/jpeg:https://brosarp.se/wp-content/uploads/2024/06/jubileumhemsida.jpg
ORGANIZER;CN="Br%C3%B6sarps byagille":MAILTO:info@brosarp.se
END:VEVENT
BEGIN:VEVENT
DTSTART;TZID=Europe/Stockholm:20240908T180000
DTEND;TZID=Europe/Stockholm:20240908T200000
DTSTAMP:20260424T080839
CREATED:20240814T124637Z
LAST-MODIFIED:20240814T124805Z
UID:10423-1725818400-1725825600@brosarp.se
SUMMARY:Samtal i byns kyrka - del 2
DESCRIPTION:Utvalda söndagskvällar kommer Samtal i byns kyrka bjuda in gäster från församlingens orter till våra sju kyrkor. Samtalen är under ledning av Kyrkoherde\, Cerny Eriksson Ståhl. Under kvällarna öppnar vi upp för fria samtal kring gästernas tankar om byn och det egna engagemanget och hur deras tankar går om byns framtid. \nBrösarps kyrka del 2\nSöndag den 8 september kl. 18.00. Gäst: Anders Cederberg. \nAndrarums kyrka\nSöndag den 20 oktober kl. 18.00. Gäst: Christoffer Lundqvist.
URL:https://brosarp.se/https-brosarp-se-event-single-post-name/samtal-i-byns-kyrka-del-2/
LOCATION:Brösarps kyrka\, Högekullsvägen 7\, Brösarp\, 27350\, Sweden
ATTACH;FMTTYPE=image/jpeg:https://brosarp.se/wp-content/uploads/2024/08/samtal-i-byns-kyrka.jpg
END:VEVENT
BEGIN:VEVENT
DTSTART;TZID=Europe/Stockholm:20240929T100000
DTEND;TZID=Europe/Stockholm:20240929T130000
DTSTAMP:20260424T080839
CREATED:20240606T190121Z
LAST-MODIFIED:20240616T194933Z
UID:10376-1727604000-1727614800@brosarp.se
SUMMARY:Bakluckeloppis
DESCRIPTION:Fynda eller sälj! Ett tillfälle där fantastiska saker kan byta ägare. \n50 kr cykel\n100 :- bil\n150 :- bil med släp \nNi som vill sälja\, kom till platsen mellan 09.00 – 09.30 för att få en plats.
URL:https://brosarp.se/https-brosarp-se-event-single-post-name/bakluckeloppis-8/
LOCATION:Gamla vägstationsområdet\, Smedjevägen 11\, Brösarp
CATEGORIES:Brösarps Byagille
ATTACH;FMTTYPE=image/jpeg:https://brosarp.se/wp-content/uploads/2023/04/loppis-e1681385509901.jpg
ORGANIZER;CN="Br%C3%B6sarps byagille":MAILTO:info@brosarp.se
END:VEVENT
END:VCALENDAR