BEGIN:VCALENDAR
VERSION:2.0
PRODID:-//Brösarp - ECPv6.15.20//NONSGML v1.0//EN
CALSCALE:GREGORIAN
METHOD:PUBLISH
X-WR-CALNAME:Brösarp
X-ORIGINAL-URL:https://brosarp.se
X-WR-CALDESC:Händelser för Brösarp
REFRESH-INTERVAL;VALUE=DURATION:PT1H
X-Robots-Tag:noindex
X-PUBLISHED-TTL:PT1H
BEGIN:VTIMEZONE
TZID:Europe/Stockholm
BEGIN:DAYLIGHT
TZOFFSETFROM:+0100
TZOFFSETTO:+0200
TZNAME:CEST
DTSTART:20240331T010000
END:DAYLIGHT
BEGIN:STANDARD
TZOFFSETFROM:+0200
TZOFFSETTO:+0100
TZNAME:CET
DTSTART:20241027T010000
END:STANDARD
BEGIN:DAYLIGHT
TZOFFSETFROM:+0100
TZOFFSETTO:+0200
TZNAME:CEST
DTSTART:20250330T010000
END:DAYLIGHT
BEGIN:STANDARD
TZOFFSETFROM:+0200
TZOFFSETTO:+0100
TZNAME:CET
DTSTART:20251026T010000
END:STANDARD
BEGIN:DAYLIGHT
TZOFFSETFROM:+0100
TZOFFSETTO:+0200
TZNAME:CEST
DTSTART:20260329T010000
END:DAYLIGHT
BEGIN:STANDARD
TZOFFSETFROM:+0200
TZOFFSETTO:+0100
TZNAME:CET
DTSTART:20261025T010000
END:STANDARD
END:VTIMEZONE
BEGIN:VEVENT
DTSTART;TZID=Europe/Stockholm:20250310T183000
DTEND;TZID=Europe/Stockholm:20250310T183000
DTSTAMP:20260423T222718
CREATED:20250223T190456Z
LAST-MODIFIED:20250223T190608Z
UID:10512-1741631400-1741631400@brosarp.se
SUMMARY:Föreläsning\, kåseri om  ICA Götes Livs historia
DESCRIPTION:Mattias Liljegren kåserar om ICA Götes Livs historia \nDå det finns ett max antal platser var god anmäl intresse\nvia SMS till 0731 – 80 44 75 före 7 mars 2025
URL:https://brosarp.se/https-brosarp-se-event-single-post-name/forelasning-kaseri-om-ica-gotes-livs-historia/
LOCATION:Brösarps bygdegård\, Albovägen 36\, Brösarp\, 273 50\, Sweden
END:VEVENT
BEGIN:VEVENT
DTSTART;TZID=Europe/Stockholm:20250322T100000
DTEND;TZID=Europe/Stockholm:20250322T100000
DTSTAMP:20260423T222718
CREATED:20250219T154745Z
LAST-MODIFIED:20250219T154947Z
UID:10510-1742637600-1742637600@brosarp.se
SUMMARY:Städdag i Brösarp
DESCRIPTION:Samling på Byaängen kl. 10.00
URL:https://brosarp.se/https-brosarp-se-event-single-post-name/staddag-i-brosarp-3/
LOCATION:Brösarps Byaäng
ATTACH;FMTTYPE=image/jpeg:https://brosarp.se/wp-content/uploads/2024/01/staddag.jpg
END:VEVENT
BEGIN:VEVENT
DTSTART;TZID=Europe/Stockholm:20250330T100000
DTEND;TZID=Europe/Stockholm:20250330T130000
DTSTAMP:20260423T222718
CREATED:20241222T155128Z
LAST-MODIFIED:20241222T155128Z
UID:10456-1743328800-1743339600@brosarp.se
SUMMARY:Bakluckeloppis
DESCRIPTION:Fynda eller sälj! Ett tillfälle där fantastiska saker kan byta ägare. \n50 kr cykel\n100 :- bil\n150 :- bil med släp \nNi som vill sälja\, kom till platsen mellan 09.00 – 09.30 för att få en plats.
URL:https://brosarp.se/https-brosarp-se-event-single-post-name/bakluckeloppis-9/
LOCATION:Gamla vägstationsområdet\, Smedjevägen 11\, Brösarp
ATTACH;FMTTYPE=image/jpeg:https://brosarp.se/wp-content/uploads/2023/04/loppis-e1681385509901.jpg
END:VEVENT
END:VCALENDAR